Workbook
Name page2: '2026 - 5311'!$A$140
Name page3: '2026 - 5311'!$A$204
Name page4: '2026 - 5311'!$A$238
Name page5: '2026 - 5311'!$A$269

Sheet INSTRUCTIONS
B2: INSTRUCTIONS
A4: 1 | B4: Prior to completing this spreadsheet, complete the SURVEY identifing your agency needs for the next 5 years.
A5: 2 | B5: Prior to completing this spreadsheet, go to the NDOT portal and review, and have at hand, your most recent monthly expenses for operating and non-operating. This will be handy when completing this spreadsheet. (see sample below)
A6: 3 | B6: Complete the benefits and salary tab for your local agency expenses for wages and taxes and benefits
A7: 4 | B7: TAB 2026 is for all projected expenses and revenues to be incurred for FY2026-2027, operating and non-operating (*Account for a 3% Inflation Rate)
A8: 5 | B8: TAB 2027 is for all projected expenses and revenues to be incurred for FY2026-2027, operating and non-operating (*Account for an additional 3% Inflation Rate on FY2026 Budget)
A9: 6 | B9: TAB 2028 is for all projected expenses and revenues to be incurred for FY2026-2027, operating and non-operating
A10: 7 | B10: TAB 2029 is for all projected expenses and revenues to be incurred for FY2026-2027, operating and non-operating
A11: 8 | B11: TAB 2030 is for all projected expenses and revenues to be incurred for FY2026-2027, operating and non-operating
A12: 9 | B12: TAB Fleet List - for agency use for planning of expansion and replacement vehicles

Sheet 2026 - 5311
A1: Master Budget ~ FY2026 | C1: FY 2026 | F1: July | G1: Aug. | H1: Sept. | I1: Oct. | J1: Nov. | K1: Dec. | L1: Jan. | M1: Feb. | N1: Mar. | O1: Apr. | P1: May | Q1: June | R1: YTD | T1: 5311 Grant
C2: Budget
A3: Budget Items | C3: Annual | D3: Monthly | F3: Expenses | G3: Expenses | H3: Expenses | I3: Expenses | J3: Expenses | K3: Expenses | L3: Expenses | M3: Expenses | N3: Expenses | O3: Expenses | P3: Expenses | Q3: Expenses | R3: Total | T3: FY 2026
A4: NON-OPERATING SERVICES - 3A, 3B, & 3C (80% Federal Funded: 10% State Funded)
B5: Quantity
A6: Transit Manager | C6: 0 | D6: =C6/12 -> 0 | F6: =$D$6 -> 0 | G6: =$D$6 -> 0 | H6: =$D$6 -> 0 | I6: =$D$6 -> 0 | J6: =$D$6 -> 0 | K6: =$D$6 -> 0 | L6: =$D$6 -> 0 | M6: =$D$6 -> 0 | ... Q6: =$D$6 -> 0 | R6: =SUM(F6:Q6) -> 0 | T6: =R6 -> 0
A7: Salary Taxes | C7: =C6*'Benefits and Salary Taxes'!D7 -> 0 | D7: =C7/12 -> 0 | F7: =+D7 -> 0 | G7: =+$D7 -> 0 | H7: =+$D7 -> 0 | I7: =+$D7 -> 0 | J7: =+$D7 -> 0 | K7: =+$D7 -> 0 | L7: =+$D7 -> 0 | M7: =+$D7 -> 0 | N7: =+$D7 -> 0 | ... P7: =+$D7 -> 0 | Q7: =+D7 -> 0 | R7: =SUM(F7:Q7) -> 0 | T7: =R7 -> 0
A8: Fringe Benefits (Health, 403(b), 401k) | C8: =+'Benefits and Salary Taxes'!E16*12 -> 0 | D8: =C8/12 -> 0 | F8: =$D$8 -> 0 | G8: =$D$8 -> 0 | H8: =$D$8 -> 0 | I8: =$D$8 -> 0 | J8: =$D$8 -> 0 | K8: =$D$8 -> 0 | L8: =$D$8 -> 0 | M8: =$D$8 -> 0 | ... Q8: =$D$8 -> 0 | R8: =SUM(F8:Q8) -> 0 | T8: =R8 -> 0
A9: Operations Manager | C9: 0 | D9: =C9/12 -> 0 | F9: =+$D$9 -> 0 | G9: =+$D$9 -> 0 | H9: =+$D$9 -> 0 | I9: =+$D$9 -> 0 | J9: =+$D$9 -> 0 | K9: =+$D$9 -> 0 | L9: =+$D$9 -> 0 | M9: =+$D$9 -> 0 | ... P9: =+$D$9 -> 0 | Q9: =$D$9 -> 0 | R9: =SUM(F9:Q9) -> 0 | T9: =R9 -> 0 | V9: =+C9 -> 0
A10: Salary Taxes | C10: =+C9*'Benefits and Salary Taxes'!D7 -> 0 | D10: =C10/12 -> 0 | F10: =+$D$10 -> 0 | G10: =+$D$10 -> 0 | H10: =+$D$10 -> 0 | I10: =+$D$10 -> 0 | J10: =+$D$10 -> 0 | K10: =+$D$10 -> 0 | L10: =+$D$10 -> 0 | M10: =+$D$10 -> 0 | ... P10: =+$D$10 -> 0 | Q10: =$D$10 -> 0 | R10: =SUM(F10:Q10) -> 0 | T10: =R10 -> 0 | V10: =+C10 -> 0
A11: Fringe Benefits (Health, 403(b), 401k) | C11: 0 | D11: =C11/12 -> 0 | F11: =+D11 -> 0 | G11: =+$D11 -> 0 | H11: =+$D11 -> 0 | I11: =+$D11 -> 0 | J11: =+$D11 -> 0 | K11: =+$D11 -> 0 | L11: =+$D11 -> 0 | M11: =+$D11 -> 0 | N11: =+$D11 -> 0 | ... P11: =+$D11 -> 0 | Q11: =$D$11 -> 0 | R11: =SUM(F11:Q11) -> 0 | T11: =R11 -> 0 | V11: =+C11 -> 0
A12: Transit Director | D12: =C12/12 -> 0 | Q12: =+D12 -> 0 | R12: =SUM(F12:Q12) -> 0 | T12: =+R12 -> 0
A13: Salary Taxes | D13: =C13/12 -> 0 | Q13: =+D13 -> 0 | R13: =SUM(F13:Q13) -> 0 | T13: =+R13 -> 0
A15: Administrative | C15: 0 | D15: =C15/12 -> 0 | F15: =+D15 -> 0 | G15: =+$D15 -> 0 | H15: =+$D15 -> 0 | I15: =+$D15 -> 0 | J15: =+$D15 -> 0 | K15: =+$D15 -> 0 | L15: =+$D15 -> 0 | M15: =+$D15 -> 0 | N15: =+$D15 -> 0 | ... P15: =+$D15 -> 0 | Q15: =$D$15 -> 0 | R15: =SUM(F15:Q15) -> 0 | T15: =R15 -> 0 | V15: =+C15 -> 0
A16: Salary Taxes | C16: =+C15*'Benefits and Salary Taxes'!D7 -> 0 | D16: =C16/12 -> 0 | F16: =+D16 -> 0 | G16: =+$D16 -> 0 | H16: =+$D16 -> 0 | I16: =+$D16 -> 0 | J16: =+$D16 -> 0 | K16: =+$D16 -> 0 | L16: =+$D16 -> 0 | M16: =+$D16 -> 0 | N16: =+$D16 -> 0 | ... P16: =+$D16 -> 0 | Q16: =+D16 -> 0 | R16: =SUM(F16:Q16) -> 0 | T16: =R16 -> 0 | V16: =+C16 -> 0
A17: Fringe Benefits (Health, 403(b), 401k) | C17: 0 | D17: =C17/12 -> 0 | F17: =+D17 -> 0 | G17: =+$D17 -> 0 | H17: =+$D17 -> 0 | I17: =+$D17 -> 0 | J17: =+$D17 -> 0 | K17: =+$D17 -> 0 | L17: =+$D17 -> 0 | M17: =+$D17 -> 0 | N17: =+$D17 -> 0 | ... P17: =+$D17 -> 0 | Q17: =$D$17 -> 0 | R17: =SUM(F17:Q17) -> 0 | T17: =R17 -> 0 | V17: =+C17 -> 0
A18: Marketing/Planning Staff | C18: 0 | D18: =C18/12 -> 0 | F18: =+D18 -> 0 | G18: =+$D18 -> 0 | H18: =+$D18 -> 0 | I18: =+$D18 -> 0 | J18: =+$D18 -> 0 | K18: =+$D18 -> 0 | L18: =+$D18 -> 0 | M18: =+$D18 -> 0 | N18: =+$D18 -> 0 | ... Q18: =+$D18 -> 0 | R18: =SUM(F18:Q18) -> 0 | T18: =R18 -> 0
A19: Salary Taxes | C19: =C18*'Benefits and Salary Taxes'!D7 -> 0 | D19: =C19/12 -> 0 | F19: =+D19 -> 0 | G19: =+$D19 -> 0 | H19: =+$D19 -> 0 | I19: =+$D19 -> 0 | J19: =+$D19 -> 0 | K19: =+$D19 -> 0 | L19: =+$D19 -> 0 | M19: =+$D19 -> 0 | N19: =+$D19 -> 0 | ... P19: =+$D19 -> 0 | Q19: =+D19 -> 0 | R19: =SUM(F19:Q19) -> 0 | T19: =R19 -> 0
A20: Fringe Benefits (Health, 403(b), 401k) | C20: 0 | D20: =C20/12 -> 0 | F20: =+D20 -> 0 | G20: =+$D20 -> 0 | H20: =+$D20 -> 0 | I20: =+$D20 -> 0 | J20: =+$D20 -> 0 | K20: =+$D20 -> 0 | L20: =+$D20 -> 0 | M20: =+$D20 -> 0 | N20: =+$D20 -> 0 | ... P20: =+$D20 -> 0 | Q20: =$D$17 -> 0 | R20: =SUM(F20:Q20) -> 0 | T20: =R20 -> 0
A21: Accounting Staff | C21: 0 | D21: =C21/12 -> 0 | F21: =+D21 -> 0 | G21: =+$D21 -> 0 | H21: =+$D21 -> 0 | I21: =+$D21 -> 0 | J21: =+$D21 -> 0 | K21: =+$D21 -> 0 | L21: =+$D21 -> 0 | M21: =+$D21 -> 0 | N21: =+$D21 -> 0 | ... Q21: =+$D21 -> 0 | R21: =SUM(F21:Q21) -> 0 | T21: =R21 -> 0
A22: Salary Taxes | C22: =C21*'Benefits and Salary Taxes'!D10 -> 0 | D22: =C22/12 -> 0 | F22: =+D22 -> 0 | G22: =+$D22 -> 0 | H22: =+$D22 -> 0 | I22: =+$D22 -> 0 | J22: =+$D22 -> 0 | K22: =+$D22 -> 0 | L22: =+$D22 -> 0 | M22: =+$D22 -> 0 | N22: =+$D22 -> 0 | ... P22: =+$D22 -> 0 | Q22: =+D22 -> 0 | R22: =SUM(F22:Q22) -> 0 | T22: =R22 -> 0
A23: Fringe Benefits (Health, 403(b), 401k) | C23: 0 | D23: =C23/12 -> 0 | F23: =+D23 -> 0 | G23: =+$D23 -> 0 | H23: =+$D23 -> 0 | I23: =+$D23 -> 0 | J23: =+$D23 -> 0 | K23: =+$D23 -> 0 | L23: =+$D23 -> 0 | M23: =+$D23 -> 0 | N23: =+$D23 -> 0 | ... P23: =+$D23 -> 0 | Q23: =+D23 -> 0 | R23: =SUM(F23:Q23) -> 0 | T23: =R23 -> 0
A24: Other Staff (Maintenance, Janitorial, etc) | C24: 0 | D24: =C24/12 -> 0 | F24: =+D24 -> 0 | G24: =+$D24 -> 0 | H24: =+$D24 -> 0 | I24: =+$D24 -> 0 | J24: =+$D24 -> 0 | K24: =+$D24 -> 0 | L24: =+$D24 -> 0 | M24: =+$D24 -> 0 | N24: =+$D24 -> 0 | ... Q24: =+$D24 -> 0 | R24: =SUM(F24:Q24) -> 0 | T24: =R24 -> 0
A25: Salary Taxes | C25: =C24*'Benefits and Salary Taxes'!D10 -> 0 | D25: =C25/12 -> 0 | F25: =+D25 -> 0 | G25: =+$D25 -> 0 | H25: =+$D25 -> 0 | I25: =+$D25 -> 0 | J25: =+$D25 -> 0 | K25: =+$D25 -> 0 | L25: =+$D25 -> 0 | M25: =+$D25 -> 0 | N25: =+$D25 -> 0 | ... P25: =+$D25 -> 0 | Q25: =+D25 -> 0 | R25: =SUM(F25:Q25) -> 0 | T25: =R25 -> 0
A26: Fringe Benefits (Health, 403(b), 401k) | C26: 0 | D26: =C26/12 -> 0 | F26: =+D26 -> 0 | G26: =+$D26 -> 0 | H26: =+$D26 -> 0 | I26: =+$D26 -> 0 | J26: =+$D26 -> 0 | K26: =+$D26 -> 0 | L26: =+$D26 -> 0 | M26: =+$D26 -> 0 | N26: =+$D26 -> 0 | ... P26: =+$D26 -> 0 | Q26: =+D26 -> 0 | R26: =SUM(F26:Q26) -> 0 | T26: =R26 -> 0
A27: Facility (Include Details)
A28: Building Lease/Rent | C28: 0 | D28: =C28/12 -> 0 | F28: =+D28 -> 0 | G28: =+$D28 -> 0 | H28: =+$D28 -> 0 | I28: =+$D28 -> 0 | J28: =+$D28 -> 0 | K28: =+$D28 -> 0 | L28: =+$D28 -> 0 | M28: =+$D28 -> 0 | N28: =+$D28 -> 0 | ... P28: =+$D28 -> 0 | Q28: =$D28 -> 0 | R28: =SUM(F28:Q28) -> 0 | T28: =R28 -> 0 | V28: =+C28 -> 0
A29: Building Utilities | C29: 0 | D29: =C29/12 -> 0 | F29: =+D29 -> 0 | G29: =+$D29 -> 0 | H29: =+$D29 -> 0 | I29: =+$D29 -> 0 | J29: =+$D29 -> 0 | K29: =+$D29 -> 0 | L29: =+$D29 -> 0 | M29: =+$D29 -> 0 | N29: =+$D29 -> 0 | ... P29: =+$D29 -> 0 | Q29: =$D$29 -> 0 | R29: =SUM(F29:Q29) -> 0 | T29: =R29 -> 0 | V29: =+C29 -> 0
A30: Building Maintenance | C30: 0 | D30: =C30/12 -> 0 | F30: =+D30 -> 0 | G30: =+$D30 -> 0 | H30: =+$D30 -> 0 | I30: =+$D30 -> 0 | J30: =+$D30 -> 0 | K30: =+$D30 -> 0 | L30: =+$D30 -> 0 | M30: =+$D30 -> 0 | N30: =+$D30 -> 0 | ... P30: =+$D30 -> 0 | Q30: =$D$30 -> 0 | R30: =SUM(F30:Q30) -> 0 | T30: =R30 -> 0
A31: Additional Building(s) | C31: 0 | D31: =C31/12 -> 0 | F31: =+D31 -> 0 | G31: =+$D31 -> 0 | H31: =+$D31 -> 0 | I31: =+$D31 -> 0 | J31: =+$D31 -> 0 | K31: =+$D31 -> 0 | L31: =+$D31 -> 0 | M31: =+$D31 -> 0 | N31: =+$D31 -> 0 | ... Q31: =+$D31 -> 0 | R31: =SUM(F31:Q31) -> 0 | T31: =R31 -> 0
A32: Additional Building Utlities | C32: 0 | D32: =C32/12 -> 0 | F32: =+D32 -> 0 | G32: =+$D32 -> 0 | H32: =+$D32 -> 0 | I32: =+$D32 -> 0 | J32: =+$D32 -> 0 | K32: =+$D32 -> 0 | L32: =+$D32 -> 0 | M32: =+$D32 -> 0 | N32: =+$D32 -> 0 | ... Q32: =+$D32 -> 0 | R32: =SUM(F32:Q32) -> 0 | T32: =R32 -> 0
A33: Additional Building Maintenance | C33: 0 | D33: =C33/12 -> 0 | F33: =+D33 -> 0 | G33: =+$D33 -> 0 | H33: =+$D33 -> 0 | I33: =+$D33 -> 0 | J33: =+$D33 -> 0 | K33: =+$D33 -> 0 | L33: =+$D33 -> 0 | M33: =+$D33 -> 0 | N33: =+$D33 -> 0 | ... Q33: =+$D33 -> 0 | R33: =SUM(F33:Q33) -> 0 | T33: =R33 -> 0
A34: Insurance (Include Details)
A35: Insurance D&O | C35: 0 | D35: =C35/12 -> 0 | F35: =+D35 -> 0 | G35: =+D35 -> 0 | H35: =+$D35 -> 0 | I35: =+$D35 -> 0 | J35: =+$D35 -> 0 | K35: =+$D35 -> 0 | L35: =+$D35 -> 0 | M35: =+$D35 -> 0 | N35: =+$D35 -> 0 | O35: =+$D35 -> 0 | P35: =+$D35 -> 0 | Q35: =$D35 -> 0 | R35: =SUM(F35:Q35) -> 0 | T35: =R35 -> 0 | V35: =+C35 -> 0
A36: Cyber/Social Insurance | C36: 0 | D36: =C36/12 -> 0 | F36: =+D36 -> 0 | G36: =+D36 -> 0 | H36: =+$D36 -> 0 | I36: =+$D36 -> 0 | J36: =+$D36 -> 0 | K36: =+$D36 -> 0 | L36: =+$D36 -> 0 | M36: =+$D36 -> 0 | N36: =+$D36 -> 0 | O36: =+$D36 -> 0 | P36: =+$D36 -> 0 | Q36: =$D36 -> 0 | R36: =SUM(F36:Q36) -> 0 | T36: =R36 -> 0 | V36: =+C36 -> 0
A37: Commercial Auto | C37: 0 | D37: =C37/12 -> 0 | F37: =+D37 -> 0 | G37: =+D37 -> 0 | H37: =+$D37 -> 0 | I37: =+$D37 -> 0 | J37: =+$D37 -> 0 | K37: =+$D37 -> 0 | L37: =+$D37 -> 0 | M37: =+$D37 -> 0 | N37: =+$D37 -> 0 | O37: =+$D37 -> 0 | P37: =+$D37 -> 0 | Q37: =$D37 -> 0 | R37: =SUM(F37:Q37) -> 0 | T37: =R37 -> 0 | V37: =+C37 -> 0
A38: General Liability | C38: 0 | D38: =C38/12 -> 0 | F38: =+D38 -> 0 | G38: =+D38 -> 0 | H38: =+$D38 -> 0 | I38: =+$D38 -> 0 | J38: =+$D38 -> 0 | K38: =+$D38 -> 0 | L38: =+$D38 -> 0 | M38: =+$D38 -> 0 | N38: =+$D38 -> 0 | O38: =+$D38 -> 0 | P38: =+$D38 -> 0 | Q38: =$D38 -> 0 | R38: =SUM(F38:Q38) -> 0 | T38: =R38 -> 0 | V38: =+C38 -> 0
A39: Umbrella/Excess | C39: 0 | D39: =C39/12 -> 0 | F39: =+D39 -> 0 | G39: =+D39 -> 0 | H39: =+$D39 -> 0 | I39: =+$D39 -> 0 | J39: =+$D39 -> 0 | K39: =+$D39 -> 0 | L39: =+$D39 -> 0 | M39: =+$D39 -> 0 | N39: =+$D39 -> 0 | O39: =+$D39 -> 0 | P39: =+$D39 -> 0 | Q39: =$D39 -> 0 | R39: =SUM(F39:Q39) -> 0 | T39: =R39 -> 0 | V39: =+C39 -> 0
A40: Crime Bond ($100,000 Limit) | C40: 0 | D40: =C40/12 -> 0 | F40: =+D40 -> 0 | G40: =+D40 -> 0 | H40: =+$D40 -> 0 | I40: =+$D40 -> 0 | J40: =+$D40 -> 0 | K40: =+$D40 -> 0 | L40: =+$D40 -> 0 | M40: =+$D40 -> 0 | N40: =+$D40 -> 0 | O40: =+$D40 -> 0 | P40: =+$D40 -> 0 | Q40: =$D40 -> 0 | R40: =SUM(F40:Q40) -> 0 | T40: =R40 -> 0 | V40: =+C40 -> 0
A41: Workmans Compensation | C41: 0 | D41: =C41/12 -> 0 | F41: =+D41 -> 0 | G41: =+D41 -> 0 | H41: =+$D41 -> 0 | I41: =+$D41 -> 0 | J41: =+$D41 -> 0 | K41: =+$D41 -> 0 | L41: =+$D41 -> 0 | M41: =+$D41 -> 0 | N41: =+$D41 -> 0 | O41: =+$D41 -> 0 | P41: =+$D41 -> 0 | Q41: =$D41 -> 0 | R41: =SUM(F41:Q41) -> 0 | T41: =R41 -> 0 | V41: =+C41 -> 0
...

Sheet 2027 - 5311
A1: Master Budget ~ FY2027 | C1: FY 2027 | F1: July | G1: Aug. | H1: Sept. | I1: Oct. | J1: Nov. | K1: Dec. | L1: Jan. | M1: Feb. | N1: Mar. | O1: Apr. | P1: May | Q1: June | R1: YTD | T1: 5311 Grant
C2: Budget
A3: Budget Item | C3: Annual | D3: Monthly | F3: Expenses | G3: Expenses | H3: Expenses | I3: Expenses | J3: Expenses | K3: Expenses | L3: Expenses | M3: Expenses | N3: Expenses | O3: Expenses | P3: Expenses | Q3: Expenses | R3: Total | T3: FY 2027
A4: NON-OPERATING SERVICES - 3A, 3B, & 3C (80% Federal Funded: 10% State Funded)
B5: Quantity
A6: Transit Manager | C6: 0 | D6: =C6/12 -> 0 | F6: =$D$6 -> 0 | G6: =$D$6 -> 0 | H6: =$D$6 -> 0 | I6: =$D$6 -> 0 | J6: =$D$6 -> 0 | K6: =$D$6 -> 0 | L6: =$D$6 -> 0 | M6: =$D$6 -> 0 | ... Q6: =$D$6 -> 0 | R6: =SUM(F6:Q6) -> 0 | T6: =R6 -> 0
A7: Salary Taxes | C7: =C6*'Benefits and Salary Taxes'!D7 -> 0 | D7: =C7/12 -> 0 | F7: =+D7 -> 0 | G7: =+$D7 -> 0 | H7: =+$D7 -> 0 | I7: =+$D7 -> 0 | J7: =+$D7 -> 0 | K7: =+$D7 -> 0 | L7: =+$D7 -> 0 | M7: =+$D7 -> 0 | N7: =+$D7 -> 0 | ... P7: =+$D7 -> 0 | Q7: =+D7 -> 0 | R7: =SUM(F7:Q7) -> 0 | T7: =R7 -> 0
A8: Fringe Benefits (Health, 403(b), 401k) | C8: =+'Benefits and Salary Taxes'!E16*12 -> 0 | D8: =C8/12 -> 0 | F8: =$D$8 -> 0 | G8: =$D$8 -> 0 | H8: =$D$8 -> 0 | I8: =$D$8 -> 0 | J8: =$D$8 -> 0 | K8: =$D$8 -> 0 | L8: =$D$8 -> 0 | M8: =$D$8 -> 0 | ... Q8: =$D$8 -> 0 | R8: =SUM(F8:Q8) -> 0 | T8: =R8 -> 0
A9: Operations Manager | C9: 0 | D9: =C9/12 -> 0 | F9: =+$D$9 -> 0 | G9: =+$D$9 -> 0 | H9: =+$D$9 -> 0 | I9: =+$D$9 -> 0 | J9: =+$D$9 -> 0 | K9: =+$D$9 -> 0 | L9: =+$D$9 -> 0 | M9: =+$D$9 -> 0 | ... P9: =+$D$9 -> 0 | Q9: =$D$9 -> 0 | R9: =SUM(F9:Q9) -> 0 | T9: =R9 -> 0 | V9: =+C9 -> 0
A10: Salary Taxes | C10: =+C9*'Benefits and Salary Taxes'!D7 -> 0 | D10: =C10/12 -> 0 | F10: =+$D$10 -> 0 | G10: =+$D$10 -> 0 | H10: =+$D$10 -> 0 | I10: =+$D$10 -> 0 | J10: =+$D$10 -> 0 | K10: =+$D$10 -> 0 | L10: =+$D$10 -> 0 | M10: =+$D$10 -> 0 | ... P10: =+$D$10 -> 0 | Q10: =$D$10 -> 0 | R10: =SUM(F10:Q10) -> 0 | T10: =R10 -> 0 | V10: =+C10 -> 0
A11: Fringe Benefits (Health, 403(b), 401k) | C11: 0 | D11: =C11/12 -> 0 | F11: =+D11 -> 0 | G11: =+$D11 -> 0 | H11: =+$D11 -> 0 | I11: =+$D11 -> 0 | J11: =+$D11 -> 0 | K11: =+$D11 -> 0 | L11: =+$D11 -> 0 | M11: =+$D11 -> 0 | N11: =+$D11 -> 0 | ... P11: =+$D11 -> 0 | Q11: =$D$11 -> 0 | R11: =SUM(F11:Q11) -> 0 | T11: =R11 -> 0 | V11: =+C11 -> 0
A12: Transit Director | D12: =C12/12 -> 0 | Q12: =+D12 -> 0 | R12: =SUM(F12:Q12) -> 0 | T12: =+R12 -> 0
A13: Salary Taxes | D13: =C13/12 -> 0 | Q13: =+D13 -> 0 | R13: =SUM(F13:Q13) -> 0 | T13: =+R13 -> 0
A15: Administrative | C15: 0 | D15: =C15/12 -> 0 | F15: =+D15 -> 0 | G15: =+$D15 -> 0 | H15: =+$D15 -> 0 | I15: =+$D15 -> 0 | J15: =+$D15 -> 0 | K15: =+$D15 -> 0 | L15: =+$D15 -> 0 | M15: =+$D15 -> 0 | N15: =+$D15 -> 0 | ... P15: =+$D15 -> 0 | Q15: =$D$15 -> 0 | R15: =SUM(F15:Q15) -> 0 | T15: =R15 -> 0 | V15: =+C15 -> 0
A16: Salary Taxes | C16: =+C15*'Benefits and Salary Taxes'!D7 -> 0 | D16: =C16/12 -> 0 | F16: =+D16 -> 0 | G16: =+$D16 -> 0 | H16: =+$D16 -> 0 | I16: =+$D16 -> 0 | J16: =+$D16 -> 0 | K16: =+$D16 -> 0 | L16: =+$D16 -> 0 | M16: =+$D16 -> 0 | N16: =+$D16 -> 0 | ... P16: =+$D16 -> 0 | Q16: =+D16 -> 0 | R16: =SUM(F16:Q16) -> 0 | T16: =R16 -> 0 | V16: =+C16 -> 0
A17: Fringe Benefits (Health, 403(b), 401k) | C17: 0 | D17: =C17/12 -> 0 | F17: =+D17 -> 0 | G17: =+$D17 -> 0 | H17: =+$D17 -> 0 | I17: =+$D17 -> 0 | J17: =+$D17 -> 0 | K17: =+$D17 -> 0 | L17: =+$D17 -> 0 | M17: =+$D17 -> 0 | N17: =+$D17 -> 0 | ... P17: =+$D17 -> 0 | Q17: =$D$17 -> 0 | R17: =SUM(F17:Q17) -> 0 | T17: =R17 -> 0 | V17: =+C17 -> 0
A18: Marketing/Planning Staff | C18: 0 | D18: =C18/12 -> 0 | F18: =+D18 -> 0 | G18: =+$D18 -> 0 | H18: =+$D18 -> 0 | I18: =+$D18 -> 0 | J18: =+$D18 -> 0 | K18: =+$D18 -> 0 | L18: =+$D18 -> 0 | M18: =+$D18 -> 0 | N18: =+$D18 -> 0 | ... Q18: =+$D18 -> 0 | R18: =SUM(F18:Q18) -> 0 | T18: =R18 -> 0
A19: Salary Taxes | C19: =C18*'Benefits and Salary Taxes'!D7 -> 0 | D19: =C19/12 -> 0 | F19: =+D19 -> 0 | G19: =+$D19 -> 0 | H19: =+$D19 -> 0 | I19: =+$D19 -> 0 | J19: =+$D19 -> 0 | K19: =+$D19 -> 0 | L19: =+$D19 -> 0 | M19: =+$D19 -> 0 | N19: =+$D19 -> 0 | ... P19: =+$D19 -> 0 | Q19: =+D19 -> 0 | R19: =SUM(F19:Q19) -> 0 | T19: =R19 -> 0
A20: Fringe Benefits (Health, 403(b), 401k) | C20: 0 | D20: =C20/12 -> 0 | F20: =+D20 -> 0 | G20: =+$D20 -> 0 | H20: =+$D20 -> 0 | I20: =+$D20 -> 0 | J20: =+$D20 -> 0 | K20: =+$D20 -> 0 | L20: =+$D20 -> 0 | M20: =+$D20 -> 0 | N20: =+$D20 -> 0 | ... P20: =+$D20 -> 0 | Q20: =$D$17 -> 0 | R20: =SUM(F20:Q20) -> 0 | T20: =R20 -> 0
A21: Accounting Staff | C21: 0 | D21: =C21/12 -> 0 | F21: =+D21 -> 0 | G21: =+$D21 -> 0 | H21: =+$D21 -> 0 | I21: =+$D21 -> 0 | J21: =+$D21 -> 0 | K21: =+$D21 -> 0 | L21: =+$D21 -> 0 | M21: =+$D21 -> 0 | N21: =+$D21 -> 0 | ... Q21: =+$D21 -> 0 | R21: =SUM(F21:Q21) -> 0 | T21: =R21 -> 0
A22: Salary Taxes | C22: =C21*'Benefits and Salary Taxes'!D10 -> 0 | D22: =C22/12 -> 0 | F22: =+D22 -> 0 | G22: =+$D22 -> 0 | H22: =+$D22 -> 0 | I22: =+$D22 -> 0 | J22: =+$D22 -> 0 | K22: =+$D22 -> 0 | L22: =+$D22 -> 0 | M22: =+$D22 -> 0 | N22: =+$D22 -> 0 | ... P22: =+$D22 -> 0 | Q22: =+D22 -> 0 | R22: =SUM(F22:Q22) -> 0 | T22: =R22 -> 0
A23: Fringe Benefits (Health, 403(b), 401k) | C23: 0 | D23: =C23/12 -> 0 | F23: =+D23 -> 0 | G23: =+$D23 -> 0 | H23: =+$D23 -> 0 | I23: =+$D23 -> 0 | J23: =+$D23 -> 0 | K23: =+$D23 -> 0 | L23: =+$D23 -> 0 | M23: =+$D23 -> 0 | N23: =+$D23 -> 0 | ... P23: =+$D23 -> 0 | Q23: =+D23 -> 0 | R23: =SUM(F23:Q23) -> 0 | T23: =R23 -> 0
A24: Other Staff | C24: 0 | D24: =C24/12 -> 0 | F24: =+D24 -> 0 | G24: =+$D24 -> 0 | H24: =+$D24 -> 0 | I24: =+$D24 -> 0 | J24: =+$D24 -> 0 | K24: =+$D24 -> 0 | L24: =+$D24 -> 0 | M24: =+$D24 -> 0 | N24: =+$D24 -> 0 | ... Q24: =+$D24 -> 0 | R24: =SUM(F24:Q24) -> 0 | T24: =R24 -> 0
A25: Salary Taxes | C25: =C24*'Benefits and Salary Taxes'!D10 -> 0 | D25: =C25/12 -> 0 | F25: =+D25 -> 0 | G25: =+$D25 -> 0 | H25: =+$D25 -> 0 | I25: =+$D25 -> 0 | J25: =+$D25 -> 0 | K25: =+$D25 -> 0 | L25: =+$D25 -> 0 | M25: =+$D25 -> 0 | N25: =+$D25 -> 0 | ... P25: =+$D25 -> 0 | Q25: =+D25 -> 0 | R25: =SUM(F25:Q25) -> 0 | T25: =R25 -> 0
A26: Fringe Benefits (Health, 403(b), 401k) | C26: 0 | D26: =C26/12 -> 0 | F26: =+D26 -> 0 | G26: =+$D26 -> 0 | H26: =+$D26 -> 0 | I26: =+$D26 -> 0 | J26: =+$D26 -> 0 | K26: =+$D26 -> 0 | L26: =+$D26 -> 0 | M26: =+$D26 -> 0 | N26: =+$D26 -> 0 | ... P26: =+$D26 -> 0 | Q26: =+D26 -> 0 | R26: =SUM(F26:Q26) -> 0 | T26: =R26 -> 0
A27: Facility
A28: Building Lease | C28: 0 | D28: =C28/12 -> 0 | F28: =+D28 -> 0 | G28: =+$D28 -> 0 | H28: =+$D28 -> 0 | I28: =+$D28 -> 0 | J28: =+$D28 -> 0 | K28: =+$D28 -> 0 | L28: =+$D28 -> 0 | M28: =+$D28 -> 0 | N28: =+$D28 -> 0 | ... P28: =+$D28 -> 0 | Q28: =$D28 -> 0 | R28: =SUM(F28:Q28) -> 0 | T28: =R28 -> 0 | V28: =+C28 -> 0
A29: Building Utilities | C29: 0 | D29: =C29/12 -> 0 | F29: =+D29 -> 0 | G29: =+$D29 -> 0 | H29: =+$D29 -> 0 | I29: =+$D29 -> 0 | J29: =+$D29 -> 0 | K29: =+$D29 -> 0 | L29: =+$D29 -> 0 | M29: =+$D29 -> 0 | N29: =+$D29 -> 0 | ... P29: =+$D29 -> 0 | Q29: =$D$29 -> 0 | R29: =SUM(F29:Q29) -> 0 | T29: =R29 -> 0 | V29: =+C29 -> 0
A30: Building Maintenance | C30: 0 | D30: =C30/12 -> 0 | F30: =+D30 -> 0 | G30: =+$D30 -> 0 | H30: =+$D30 -> 0 | I30: =+$D30 -> 0 | J30: =+$D30 -> 0 | K30: =+$D30 -> 0 | L30: =+$D30 -> 0 | M30: =+$D30 -> 0 | N30: =+$D30 -> 0 | ... P30: =+$D30 -> 0 | Q30: =$D$30 -> 0 | R30: =SUM(F30:Q30) -> 0 | T30: =R30 -> 0
A31: Building Other | C31: 0 | D31: =C31/12 -> 0 | F31: =+D31 -> 0 | G31: =+$D31 -> 0 | H31: =+$D31 -> 0 | I31: =+$D31 -> 0 | J31: =+$D31 -> 0 | K31: =+$D31 -> 0 | L31: =+$D31 -> 0 | M31: =+$D31 -> 0 | N31: =+$D31 -> 0 | ... Q31: =+$D31 -> 0 | R31: =SUM(F31:Q31) -> 0 | T31: =R31 -> 0
A32: Building Other | C32: 0 | D32: =C32/12 -> 0 | F32: =+D32 -> 0 | G32: =+$D32 -> 0 | H32: =+$D32 -> 0 | I32: =+$D32 -> 0 | J32: =+$D32 -> 0 | K32: =+$D32 -> 0 | L32: =+$D32 -> 0 | M32: =+$D32 -> 0 | N32: =+$D32 -> 0 | ... Q32: =+$D32 -> 0 | R32: =SUM(F32:Q32) -> 0 | T32: =R32 -> 0
A33: Building Other | C33: 0 | D33: =C33/12 -> 0 | F33: =+D33 -> 0 | G33: =+$D33 -> 0 | H33: =+$D33 -> 0 | I33: =+$D33 -> 0 | J33: =+$D33 -> 0 | K33: =+$D33 -> 0 | L33: =+$D33 -> 0 | M33: =+$D33 -> 0 | N33: =+$D33 -> 0 | ... Q33: =+$D33 -> 0 | R33: =SUM(F33:Q33) -> 0 | T33: =R33 -> 0
A34: Building Other | C34: 0 | D34: =C34/12 -> 0 | F34: =+D34 -> 0 | G34: =+$D34 -> 0 | H34: =+$D34 -> 0 | I34: =+$D34 -> 0 | J34: =+$D34 -> 0 | K34: =+$D34 -> 0 | L34: =+$D34 -> 0 | M34: =+$D34 -> 0 | N34: =+$D34 -> 0 | ... Q34: =+$D34 -> 0 | R34: =SUM(F34:Q34) -> 0 | T34: =R34 -> 0
A35: Insurance
A36: Insurance D&O | C36: 0 | D36: =C36/12 -> 0 | F36: =+D36 -> 0 | G36: =+D36 -> 0 | H36: =+$D36 -> 0 | I36: =+$D36 -> 0 | J36: =+$D36 -> 0 | K36: =+$D36 -> 0 | L36: =+$D36 -> 0 | M36: =+$D36 -> 0 | N36: =+$D36 -> 0 | O36: =+$D36 -> 0 | P36: =+$D36 -> 0 | Q36: =$D36 -> 0 | R36: =SUM(F36:Q36) -> 0 | T36: =R36 -> 0 | V36: =+C36 -> 0
A37: Cyber Insurance | C37: 0 | D37: =C37/12 -> 0 | F37: =+D37 -> 0 | G37: =+D37 -> 0 | H37: =+$D37 -> 0 | I37: =+$D37 -> 0 | J37: =+$D37 -> 0 | K37: =+$D37 -> 0 | L37: =+$D37 -> 0 | M37: =+$D37 -> 0 | N37: =+$D37 -> 0 | O37: =+$D37 -> 0 | P37: =+$D37 -> 0 | Q37: =$D37 -> 0 | R37: =SUM(F37:Q37) -> 0 | T37: =R37 -> 0 | V37: =+C37 -> 0
A38: Commercial Auto | C38: 0 | D38: =C38/12 -> 0 | F38: =+D38 -> 0 | G38: =+D38 -> 0 | H38: =+$D38 -> 0 | I38: =+$D38 -> 0 | J38: =+$D38 -> 0 | K38: =+$D38 -> 0 | L38: =+$D38 -> 0 | M38: =+$D38 -> 0 | N38: =+$D38 -> 0 | O38: =+$D38 -> 0 | P38: =+$D38 -> 0 | Q38: =$D38 -> 0 | R38: =SUM(F38:Q38) -> 0 | T38: =R38 -> 0 | V38: =+C38 -> 0
A39: General Liability | C39: 0 | D39: =C39/12 -> 0 | F39: =+D39 -> 0 | G39: =+D39 -> 0 | H39: =+$D39 -> 0 | I39: =+$D39 -> 0 | J39: =+$D39 -> 0 | K39: =+$D39 -> 0 | L39: =+$D39 -> 0 | M39: =+$D39 -> 0 | N39: =+$D39 -> 0 | O39: =+$D39 -> 0 | P39: =+$D39 -> 0 | Q39: =$D39 -> 0 | R39: =SUM(F39:Q39) -> 0 | T39: =R39 -> 0 | V39: =+C39 -> 0
A40: Umbrella/Excess | C40: 0 | D40: =C40/12 -> 0 | F40: =+D40 -> 0 | G40: =+D40 -> 0 | H40: =+$D40 -> 0 | I40: =+$D40 -> 0 | J40: =+$D40 -> 0 | K40: =+$D40 -> 0 | L40: =+$D40 -> 0 | M40: =+$D40 -> 0 | N40: =+$D40 -> 0 | O40: =+$D40 -> 0 | P40: =+$D40 -> 0 | Q40: =$D40 -> 0 | R40: =SUM(F40:Q40) -> 0 | T40: =R40 -> 0 | V40: =+C40 -> 0
A41: Crime Bond ($100,000 Limit) | C41: 0 | D41: =C41/12 -> 0 | F41: =+D41 -> 0 | G41: =+D41 -> 0 | H41: =+$D41 -> 0 | I41: =+$D41 -> 0 | J41: =+$D41 -> 0 | K41: =+$D41 -> 0 | L41: =+$D41 -> 0 | M41: =+$D41 -> 0 | N41: =+$D41 -> 0 | O41: =+$D41 -> 0 | P41: =+$D41 -> 0 | Q41: =$D41 -> 0 | R41: =SUM(F41:Q41) -> 0 | T41: =R41 -> 0 | V41: =+C41 -> 0
...

Sheet 2028 - 5311
A1: Master Budget ~ FY2028 | C1: FY 2028 | F1: July | G1: Aug. | H1: Sept. | I1: Oct. | J1: Nov. | K1: Dec. | L1: Jan. | M1: Feb. | N1: Mar. | O1: Apr. | P1: May | Q1: June | R1: YTD | T1: 5311 Grant
C2: Budget
A3: Budget Item | C3: Annual | D3: Monthly | F3: Expenses | G3: Expenses | H3: Expenses | I3: Expenses | J3: Expenses | K3: Expenses | L3: Expenses | M3: Expenses | N3: Expenses | O3: Expenses | P3: Expenses | Q3: Expenses | R3: Total | T3: FY 2028
A4: NON-OPERATING SERVICES (80% Federal Funded: 10% State Funded)
B5: Quantity
A6: Transit Manager | C6: 0 | D6: =C6/12 -> 0 | F6: =$D$6 -> 0 | G6: =$D$6 -> 0 | H6: =$D$6 -> 0 | I6: =$D$6 -> 0 | J6: =$D$6 -> 0 | K6: =$D$6 -> 0 | L6: =$D$6 -> 0 | M6: =$D$6 -> 0 | ... Q6: =$D$6 -> 0 | R6: =SUM(F6:Q6) -> 0 | T6: =R6 -> 0
A7: Salary Taxes | C7: =C6*'Benefits and Salary Taxes'!D7 -> 0 | D7: =C7/12 -> 0 | F7: =+D7 -> 0 | G7: =+$D7 -> 0 | H7: =+$D7 -> 0 | I7: =+$D7 -> 0 | J7: =+$D7 -> 0 | K7: =+$D7 -> 0 | L7: =+$D7 -> 0 | M7: =+$D7 -> 0 | N7: =+$D7 -> 0 | ... P7: =+$D7 -> 0 | Q7: =+D7 -> 0 | R7: =SUM(F7:Q7) -> 0 | T7: =R7 -> 0
A8: Fringe Benefits (Health, 403(b), 401k) | C8: =+'Benefits and Salary Taxes'!E16*12 -> 0 | D8: =C8/12 -> 0 | F8: =$D$8 -> 0 | G8: =$D$8 -> 0 | H8: =$D$8 -> 0 | I8: =$D$8 -> 0 | J8: =$D$8 -> 0 | K8: =$D$8 -> 0 | L8: =$D$8 -> 0 | M8: =$D$8 -> 0 | ... Q8: =$D$8 -> 0 | R8: =SUM(F8:Q8) -> 0 | T8: =R8 -> 0
A9: Operations Manager | C9: 0 | D9: =C9/12 -> 0 | F9: =+$D$9 -> 0 | G9: =+$D$9 -> 0 | H9: =+$D$9 -> 0 | I9: =+$D$9 -> 0 | J9: =+$D$9 -> 0 | K9: =+$D$9 -> 0 | L9: =+$D$9 -> 0 | M9: =+$D$9 -> 0 | ... P9: =+$D$9 -> 0 | Q9: =$D$9 -> 0 | R9: =SUM(F9:Q9) -> 0 | T9: =R9 -> 0 | V9: =+C9 -> 0
A10: Salary Taxes | C10: =+C9*'Benefits and Salary Taxes'!D7 -> 0 | D10: =C10/12 -> 0 | F10: =+$D$10 -> 0 | G10: =+$D$10 -> 0 | H10: =+$D$10 -> 0 | I10: =+$D$10 -> 0 | J10: =+$D$10 -> 0 | K10: =+$D$10 -> 0 | L10: =+$D$10 -> 0 | M10: =+$D$10 -> 0 | ... P10: =+$D$10 -> 0 | Q10: =$D$10 -> 0 | R10: =SUM(F10:Q10) -> 0 | T10: =R10 -> 0 | V10: =+C10 -> 0
A11: Fringe Benefits (Health, 403(b), 401k) | C11: 0 | D11: =C11/12 -> 0 | F11: =+D11 -> 0 | G11: =+$D11 -> 0 | H11: =+$D11 -> 0 | I11: =+$D11 -> 0 | J11: =+$D11 -> 0 | K11: =+$D11 -> 0 | L11: =+$D11 -> 0 | M11: =+$D11 -> 0 | N11: =+$D11 -> 0 | ... P11: =+$D11 -> 0 | Q11: =$D$11 -> 0 | R11: =SUM(F11:Q11) -> 0 | T11: =R11 -> 0 | V11: =+C11 -> 0
A12: Transit Director | D12: =C12/12 -> 0 | Q12: =+D12 -> 0 | R12: =SUM(F12:Q12) -> 0 | T12: =+R12 -> 0
A13: Salary Taxes | D13: =C13/12 -> 0 | Q13: =+D13 -> 0 | R13: =SUM(F13:Q13) -> 0 | T13: =+R13 -> 0
A15: Administrative | C15: 0 | D15: =C15/12 -> 0 | F15: =+D15 -> 0 | G15: =+$D15 -> 0 | H15: =+$D15 -> 0 | I15: =+$D15 -> 0 | J15: =+$D15 -> 0 | K15: =+$D15 -> 0 | L15: =+$D15 -> 0 | M15: =+$D15 -> 0 | N15: =+$D15 -> 0 | ... P15: =+$D15 -> 0 | Q15: =$D$15 -> 0 | R15: =SUM(F15:Q15) -> 0 | T15: =R15 -> 0 | V15: =+C15 -> 0
A16: Salary Taxes | C16: =+C15*'Benefits and Salary Taxes'!D7 -> 0 | D16: =C16/12 -> 0 | F16: =+D16 -> 0 | G16: =+$D16 -> 0 | H16: =+$D16 -> 0 | I16: =+$D16 -> 0 | J16: =+$D16 -> 0 | K16: =+$D16 -> 0 | L16: =+$D16 -> 0 | M16: =+$D16 -> 0 | N16: =+$D16 -> 0 | ... P16: =+$D16 -> 0 | Q16: =+D16 -> 0 | R16: =SUM(F16:Q16) -> 0 | T16: =R16 -> 0 | V16: =+C16 -> 0
A17: Fringe Benefits (Health, 403(b), 401k) | C17: 0 | D17: =C17/12 -> 0 | F17: =+D17 -> 0 | G17: =+$D17 -> 0 | H17: =+$D17 -> 0 | I17: =+$D17 -> 0 | J17: =+$D17 -> 0 | K17: =+$D17 -> 0 | L17: =+$D17 -> 0 | M17: =+$D17 -> 0 | N17: =+$D17 -> 0 | ... P17: =+$D17 -> 0 | Q17: =$D$17 -> 0 | R17: =SUM(F17:Q17) -> 0 | T17: =R17 -> 0 | V17: =+C17 -> 0
A18: Marketing/Planning Staff | C18: 0 | D18: =C18/12 -> 0 | F18: =+D18 -> 0 | G18: =+$D18 -> 0 | H18: =+$D18 -> 0 | I18: =+$D18 -> 0 | J18: =+$D18 -> 0 | K18: =+$D18 -> 0 | L18: =+$D18 -> 0 | M18: =+$D18 -> 0 | N18: =+$D18 -> 0 | ... Q18: =+$D18 -> 0 | R18: =SUM(F18:Q18) -> 0 | T18: =R18 -> 0
A19: Salary Taxes | C19: =C18*'Benefits and Salary Taxes'!D7 -> 0 | D19: =C19/12 -> 0 | F19: =+D19 -> 0 | G19: =+$D19 -> 0 | H19: =+$D19 -> 0 | I19: =+$D19 -> 0 | J19: =+$D19 -> 0 | K19: =+$D19 -> 0 | L19: =+$D19 -> 0 | M19: =+$D19 -> 0 | N19: =+$D19 -> 0 | ... P19: =+$D19 -> 0 | Q19: =+D19 -> 0 | R19: =SUM(F19:Q19) -> 0 | T19: =R19 -> 0
A20: Fringe Benefits (Health, 403(b), 401k) | C20: 0 | D20: =C20/12 -> 0 | F20: =+D20 -> 0 | G20: =+$D20 -> 0 | H20: =+$D20 -> 0 | I20: =+$D20 -> 0 | J20: =+$D20 -> 0 | K20: =+$D20 -> 0 | L20: =+$D20 -> 0 | M20: =+$D20 -> 0 | N20: =+$D20 -> 0 | ... P20: =+$D20 -> 0 | Q20: =$D$17 -> 0 | R20: =SUM(F20:Q20) -> 0 | T20: =R20 -> 0
A21: Accounting Staff | C21: 0 | D21: =C21/12 -> 0 | F21: =+D21 -> 0 | G21: =+$D21 -> 0 | H21: =+$D21 -> 0 | I21: =+$D21 -> 0 | J21: =+$D21 -> 0 | K21: =+$D21 -> 0 | L21: =+$D21 -> 0 | M21: =+$D21 -> 0 | N21: =+$D21 -> 0 | ... Q21: =+$D21 -> 0 | R21: =SUM(F21:Q21) -> 0 | T21: =R21 -> 0
A22: Salary Taxes | C22: =C21*'Benefits and Salary Taxes'!D10 -> 0 | D22: =C22/12 -> 0 | F22: =+D22 -> 0 | G22: =+$D22 -> 0 | H22: =+$D22 -> 0 | I22: =+$D22 -> 0 | J22: =+$D22 -> 0 | K22: =+$D22 -> 0 | L22: =+$D22 -> 0 | M22: =+$D22 -> 0 | N22: =+$D22 -> 0 | ... P22: =+$D22 -> 0 | Q22: =+D22 -> 0 | R22: =SUM(F22:Q22) -> 0 | T22: =R22 -> 0
A23: Fringe Benefits (Health, 403(b), 401k) | C23: 0 | D23: =C23/12 -> 0 | F23: =+D23 -> 0 | G23: =+$D23 -> 0 | H23: =+$D23 -> 0 | I23: =+$D23 -> 0 | J23: =+$D23 -> 0 | K23: =+$D23 -> 0 | L23: =+$D23 -> 0 | M23: =+$D23 -> 0 | N23: =+$D23 -> 0 | ... P23: =+$D23 -> 0 | Q23: =+D23 -> 0 | R23: =SUM(F23:Q23) -> 0 | T23: =R23 -> 0
A24: Other Staff | C24: 0 | D24: =C24/12 -> 0 | F24: =+D24 -> 0 | G24: =+$D24 -> 0 | H24: =+$D24 -> 0 | I24: =+$D24 -> 0 | J24: =+$D24 -> 0 | K24: =+$D24 -> 0 | L24: =+$D24 -> 0 | M24: =+$D24 -> 0 | N24: =+$D24 -> 0 | ... Q24: =+$D24 -> 0 | R24: =SUM(F24:Q24) -> 0 | T24: =R24 -> 0
A25: Salary Taxes | C25: =C24*'Benefits and Salary Taxes'!D10 -> 0 | D25: =C25/12 -> 0 | F25: =+D25 -> 0 | G25: =+$D25 -> 0 | H25: =+$D25 -> 0 | I25: =+$D25 -> 0 | J25: =+$D25 -> 0 | K25: =+$D25 -> 0 | L25: =+$D25 -> 0 | M25: =+$D25 -> 0 | N25: =+$D25 -> 0 | ... P25: =+$D25 -> 0 | Q25: =+D25 -> 0 | R25: =SUM(F25:Q25) -> 0 | T25: =R25 -> 0
A26: Fringe Benefits (Health, 403(b), 401k) | C26: 0 | D26: =C26/12 -> 0 | F26: =+D26 -> 0 | G26: =+$D26 -> 0 | H26: =+$D26 -> 0 | I26: =+$D26 -> 0 | J26: =+$D26 -> 0 | K26: =+$D26 -> 0 | L26: =+$D26 -> 0 | M26: =+$D26 -> 0 | N26: =+$D26 -> 0 | ... P26: =+$D26 -> 0 | Q26: =+D26 -> 0 | R26: =SUM(F26:Q26) -> 0 | T26: =R26 -> 0
A27: Facility
A28: Building Lease | C28: 0 | D28: =C28/12 -> 0 | F28: =+D28 -> 0 | G28: =+$D28 -> 0 | H28: =+$D28 -> 0 | I28: =+$D28 -> 0 | J28: =+$D28 -> 0 | K28: =+$D28 -> 0 | L28: =+$D28 -> 0 | M28: =+$D28 -> 0 | N28: =+$D28 -> 0 | ... P28: =+$D28 -> 0 | Q28: =$D28 -> 0 | R28: =SUM(F28:Q28) -> 0 | T28: =R28 -> 0 | V28: =+C28 -> 0
A29: Building Utilities | C29: 0 | D29: =C29/12 -> 0 | F29: =+D29 -> 0 | G29: =+$D29 -> 0 | H29: =+$D29 -> 0 | I29: =+$D29 -> 0 | J29: =+$D29 -> 0 | K29: =+$D29 -> 0 | L29: =+$D29 -> 0 | M29: =+$D29 -> 0 | N29: =+$D29 -> 0 | ... P29: =+$D29 -> 0 | Q29: =$D$29 -> 0 | R29: =SUM(F29:Q29) -> 0 | T29: =R29 -> 0 | V29: =+C29 -> 0
A30: Building Maintenance | C30: 0 | D30: =C30/12 -> 0 | F30: =+D30 -> 0 | G30: =+$D30 -> 0 | H30: =+$D30 -> 0 | I30: =+$D30 -> 0 | J30: =+$D30 -> 0 | K30: =+$D30 -> 0 | L30: =+$D30 -> 0 | M30: =+$D30 -> 0 | N30: =+$D30 -> 0 | ... P30: =+$D30 -> 0 | Q30: =$D$30 -> 0 | R30: =SUM(F30:Q30) -> 0 | T30: =R30 -> 0
A31: Building Other | C31: 0 | D31: =C31/12 -> 0 | F31: =+D31 -> 0 | G31: =+$D31 -> 0 | H31: =+$D31 -> 0 | I31: =+$D31 -> 0 | J31: =+$D31 -> 0 | K31: =+$D31 -> 0 | L31: =+$D31 -> 0 | M31: =+$D31 -> 0 | N31: =+$D31 -> 0 | ... Q31: =+$D31 -> 0 | R31: =SUM(F31:Q31) -> 0 | T31: =R31 -> 0
A32: Building Other | C32: 0 | D32: =C32/12 -> 0 | F32: =+D32 -> 0 | G32: =+$D32 -> 0 | H32: =+$D32 -> 0 | I32: =+$D32 -> 0 | J32: =+$D32 -> 0 | K32: =+$D32 -> 0 | L32: =+$D32 -> 0 | M32: =+$D32 -> 0 | N32: =+$D32 -> 0 | ... Q32: =+$D32 -> 0 | R32: =SUM(F32:Q32) -> 0 | T32: =R32 -> 0
A33: Building Other | C33: 0 | D33: =C33/12 -> 0 | F33: =+D33 -> 0 | G33: =+$D33 -> 0 | H33: =+$D33 -> 0 | I33: =+$D33 -> 0 | J33: =+$D33 -> 0 | K33: =+$D33 -> 0 | L33: =+$D33 -> 0 | M33: =+$D33 -> 0 | N33: =+$D33 -> 0 | ... Q33: =+$D33 -> 0 | R33: =SUM(F33:Q33) -> 0 | T33: =R33 -> 0
A34: Building Other | C34: 0 | D34: =C34/12 -> 0 | F34: =+D34 -> 0 | G34: =+$D34 -> 0 | H34: =+$D34 -> 0 | I34: =+$D34 -> 0 | J34: =+$D34 -> 0 | K34: =+$D34 -> 0 | L34: =+$D34 -> 0 | M34: =+$D34 -> 0 | N34: =+$D34 -> 0 | ... Q34: =+$D34 -> 0 | R34: =SUM(F34:Q34) -> 0 | T34: =R34 -> 0
A35: Insurance
A36: Insurance D&O | C36: 0 | D36: =C36/12 -> 0 | F36: =+D36 -> 0 | G36: =+D36 -> 0 | H36: =+$D36 -> 0 | I36: =+$D36 -> 0 | J36: =+$D36 -> 0 | K36: =+$D36 -> 0 | L36: =+$D36 -> 0 | M36: =+$D36 -> 0 | N36: =+$D36 -> 0 | O36: =+$D36 -> 0 | P36: =+$D36 -> 0 | Q36: =$D36 -> 0 | R36: =SUM(F36:Q36) -> 0 | T36: =R36 -> 0 | V36: =+C36 -> 0
A37: Cyber Insurance | C37: 0 | D37: =C37/12 -> 0 | F37: =+D37 -> 0 | G37: =+D37 -> 0 | H37: =+$D37 -> 0 | I37: =+$D37 -> 0 | J37: =+$D37 -> 0 | K37: =+$D37 -> 0 | L37: =+$D37 -> 0 | M37: =+$D37 -> 0 | N37: =+$D37 -> 0 | O37: =+$D37 -> 0 | P37: =+$D37 -> 0 | Q37: =$D37 -> 0 | R37: =SUM(F37:Q37) -> 0 | T37: =R37 -> 0 | V37: =+C37 -> 0
A38: Commercial Auto | C38: 0 | D38: =C38/12 -> 0 | F38: =+D38 -> 0 | G38: =+D38 -> 0 | H38: =+$D38 -> 0 | I38: =+$D38 -> 0 | J38: =+$D38 -> 0 | K38: =+$D38 -> 0 | L38: =+$D38 -> 0 | M38: =+$D38 -> 0 | N38: =+$D38 -> 0 | O38: =+$D38 -> 0 | P38: =+$D38 -> 0 | Q38: =$D38 -> 0 | R38: =SUM(F38:Q38) -> 0 | T38: =R38 -> 0 | V38: =+C38 -> 0
A39: General Liability | C39: 0 | D39: =C39/12 -> 0 | F39: =+D39 -> 0 | G39: =+D39 -> 0 | H39: =+$D39 -> 0 | I39: =+$D39 -> 0 | J39: =+$D39 -> 0 | K39: =+$D39 -> 0 | L39: =+$D39 -> 0 | M39: =+$D39 -> 0 | N39: =+$D39 -> 0 | O39: =+$D39 -> 0 | P39: =+$D39 -> 0 | Q39: =$D39 -> 0 | R39: =SUM(F39:Q39) -> 0 | T39: =R39 -> 0 | V39: =+C39 -> 0
A40: Umbrella/Excess | C40: 0 | D40: =C40/12 -> 0 | F40: =+D40 -> 0 | G40: =+D40 -> 0 | H40: =+$D40 -> 0 | I40: =+$D40 -> 0 | J40: =+$D40 -> 0 | K40: =+$D40 -> 0 | L40: =+$D40 -> 0 | M40: =+$D40 -> 0 | N40: =+$D40 -> 0 | O40: =+$D40 -> 0 | P40: =+$D40 -> 0 | Q40: =$D40 -> 0 | R40: =SUM(F40:Q40) -> 0 | T40: =R40 -> 0 | V40: =+C40 -> 0
A41: Crime Bond ($100,000 Limit) | C41: 0 | D41: =C41/12 -> 0 | F41: =+D41 -> 0 | G41: =+D41 -> 0 | H41: =+$D41 -> 0 | I41: =+$D41 -> 0 | J41: =+$D41 -> 0 | K41: =+$D41 -> 0 | L41: =+$D41 -> 0 | M41: =+$D41 -> 0 | N41: =+$D41 -> 0 | O41: =+$D41 -> 0 | P41: =+$D41 -> 0 | Q41: =$D41 -> 0 | R41: =SUM(F41:Q41) -> 0 | T41: =R41 -> 0 | V41: =+C41 -> 0
...

Sheet 2029 - 5311
A1: Master Budget ~ FY2029 | C1: FY 2029 | F1: July | G1: Aug. | H1: Sept. | I1: Oct. | J1: Nov. | K1: Dec. | L1: Jan. | M1: Feb. | N1: Mar. | O1: Apr. | P1: May | Q1: June | R1: YTD | T1: 5311 Grant
C2: Budget
A3: Budget Item | C3: Annual | D3: Monthly | F3: Expenses | G3: Expenses | H3: Expenses | I3: Expenses | J3: Expenses | K3: Expenses | L3: Expenses | M3: Expenses | N3: Expenses | O3: Expenses | P3: Expenses | Q3: Expenses | R3: Total | T3: FY 2029
A4: NON-OPERATING SERVICES (80% Federal Funded: 10% State Funded)
B5: Quantity
A6: Transit Manager | C6: 0 | D6: =C6/12 -> 0 | F6: =$D$6 -> 0 | G6: =$D$6 -> 0 | H6: =$D$6 -> 0 | I6: =$D$6 -> 0 | J6: =$D$6 -> 0 | K6: =$D$6 -> 0 | L6: =$D$6 -> 0 | M6: =$D$6 -> 0 | ... Q6: =$D$6 -> 0 | R6: =SUM(F6:Q6) -> 0 | T6: =R6 -> 0
A7: Salary Taxes | C7: =C6*'Benefits and Salary Taxes'!D7 -> 0 | D7: =C7/12 -> 0 | F7: =+D7 -> 0 | G7: =+$D7 -> 0 | H7: =+$D7 -> 0 | I7: =+$D7 -> 0 | J7: =+$D7 -> 0 | K7: =+$D7 -> 0 | L7: =+$D7 -> 0 | M7: =+$D7 -> 0 | N7: =+$D7 -> 0 | ... P7: =+$D7 -> 0 | Q7: =+D7 -> 0 | R7: =SUM(F7:Q7) -> 0 | T7: =R7 -> 0
A8: Fringe Benefits (Health, 403(b), 401k) | C8: =+'Benefits and Salary Taxes'!E16*12 -> 0 | D8: =C8/12 -> 0 | F8: =$D$8 -> 0 | G8: =$D$8 -> 0 | H8: =$D$8 -> 0 | I8: =$D$8 -> 0 | J8: =$D$8 -> 0 | K8: =$D$8 -> 0 | L8: =$D$8 -> 0 | M8: =$D$8 -> 0 | ... Q8: =$D$8 -> 0 | R8: =SUM(F8:Q8) -> 0 | T8: =R8 -> 0
A9: Operations Manager | C9: 0 | D9: =C9/12 -> 0 | F9: =+$D$9 -> 0 | G9: =+$D$9 -> 0 | H9: =+$D$9 -> 0 | I9: =+$D$9 -> 0 | J9: =+$D$9 -> 0 | K9: =+$D$9 -> 0 | L9: =+$D$9 -> 0 | M9: =+$D$9 -> 0 | ... P9: =+$D$9 -> 0 | Q9: =$D$9 -> 0 | R9: =SUM(F9:Q9) -> 0 | T9: =R9 -> 0 | V9: =+C9 -> 0
A10: Salary Taxes | C10: =+C9*'Benefits and Salary Taxes'!D7 -> 0 | D10: =C10/12 -> 0 | F10: =+$D$10 -> 0 | G10: =+$D$10 -> 0 | H10: =+$D$10 -> 0 | I10: =+$D$10 -> 0 | J10: =+$D$10 -> 0 | K10: =+$D$10 -> 0 | L10: =+$D$10 -> 0 | M10: =+$D$10 -> 0 | ... P10: =+$D$10 -> 0 | Q10: =$D$10 -> 0 | R10: =SUM(F10:Q10) -> 0 | T10: =R10 -> 0 | V10: =+C10 -> 0
A11: Fringe Benefits (Health, 403(b), 401k) | C11: 0 | D11: =C11/12 -> 0 | F11: =+D11 -> 0 | G11: =+$D11 -> 0 | H11: =+$D11 -> 0 | I11: =+$D11 -> 0 | J11: =+$D11 -> 0 | K11: =+$D11 -> 0 | L11: =+$D11 -> 0 | M11: =+$D11 -> 0 | N11: =+$D11 -> 0 | ... P11: =+$D11 -> 0 | Q11: =$D$11 -> 0 | R11: =SUM(F11:Q11) -> 0 | T11: =R11 -> 0 | V11: =+C11 -> 0
A12: Transit Director | D12: =C12/12 -> 0 | Q12: =+D12 -> 0 | R12: =SUM(F12:Q12) -> 0 | T12: =+R12 -> 0
A13: Salary Taxes | D13: =C13/12 -> 0 | Q13: =+D13 -> 0 | R13: =SUM(F13:Q13) -> 0 | T13: =+R13 -> 0
A15: Administrative | C15: 0 | D15: =C15/12 -> 0 | F15: =+D15 -> 0 | G15: =+$D15 -> 0 | H15: =+$D15 -> 0 | I15: =+$D15 -> 0 | J15: =+$D15 -> 0 | K15: =+$D15 -> 0 | L15: =+$D15 -> 0 | M15: =+$D15 -> 0 | N15: =+$D15 -> 0 | ... P15: =+$D15 -> 0 | Q15: =$D$15 -> 0 | R15: =SUM(F15:Q15) -> 0 | T15: =R15 -> 0 | V15: =+C15 -> 0
A16: Salary Taxes | C16: =+C15*'Benefits and Salary Taxes'!D7 -> 0 | D16: =C16/12 -> 0 | F16: =+D16 -> 0 | G16: =+$D16 -> 0 | H16: =+$D16 -> 0 | I16: =+$D16 -> 0 | J16: =+$D16 -> 0 | K16: =+$D16 -> 0 | L16: =+$D16 -> 0 | M16: =+$D16 -> 0 | N16: =+$D16 -> 0 | ... P16: =+$D16 -> 0 | Q16: =+D16 -> 0 | R16: =SUM(F16:Q16) -> 0 | T16: =R16 -> 0 | V16: =+C16 -> 0
A17: Fringe Benefits (Health, 403(b), 401k) | C17: 0 | D17: =C17/12 -> 0 | F17: =+D17 -> 0 | G17: =+$D17 -> 0 | H17: =+$D17 -> 0 | I17: =+$D17 -> 0 | J17: =+$D17 -> 0 | K17: =+$D17 -> 0 | L17: =+$D17 -> 0 | M17: =+$D17 -> 0 | N17: =+$D17 -> 0 | ... P17: =+$D17 -> 0 | Q17: =$D$17 -> 0 | R17: =SUM(F17:Q17) -> 0 | T17: =R17 -> 0 | V17: =+C17 -> 0
A18: Marketing/Planning Staff | C18: 0 | D18: =C18/12 -> 0 | F18: =+D18 -> 0 | G18: =+$D18 -> 0 | H18: =+$D18 -> 0 | I18: =+$D18 -> 0 | J18: =+$D18 -> 0 | K18: =+$D18 -> 0 | L18: =+$D18 -> 0 | M18: =+$D18 -> 0 | N18: =+$D18 -> 0 | ... Q18: =+$D18 -> 0 | R18: =SUM(F18:Q18) -> 0 | T18: =R18 -> 0
A19: Salary Taxes | C19: =C18*'Benefits and Salary Taxes'!D7 -> 0 | D19: =C19/12 -> 0 | F19: =+D19 -> 0 | G19: =+$D19 -> 0 | H19: =+$D19 -> 0 | I19: =+$D19 -> 0 | J19: =+$D19 -> 0 | K19: =+$D19 -> 0 | L19: =+$D19 -> 0 | M19: =+$D19 -> 0 | N19: =+$D19 -> 0 | ... P19: =+$D19 -> 0 | Q19: =+D19 -> 0 | R19: =SUM(F19:Q19) -> 0 | T19: =R19 -> 0
A20: Fringe Benefits (Health, 403(b), 401k) | C20: 0 | D20: =C20/12 -> 0 | F20: =+D20 -> 0 | G20: =+$D20 -> 0 | H20: =+$D20 -> 0 | I20: =+$D20 -> 0 | J20: =+$D20 -> 0 | K20: =+$D20 -> 0 | L20: =+$D20 -> 0 | M20: =+$D20 -> 0 | N20: =+$D20 -> 0 | ... P20: =+$D20 -> 0 | Q20: =$D$17 -> 0 | R20: =SUM(F20:Q20) -> 0 | T20: =R20 -> 0
A21: Accounting Staff | C21: 0 | D21: =C21/12 -> 0 | F21: =+D21 -> 0 | G21: =+$D21 -> 0 | H21: =+$D21 -> 0 | I21: =+$D21 -> 0 | J21: =+$D21 -> 0 | K21: =+$D21 -> 0 | L21: =+$D21 -> 0 | M21: =+$D21 -> 0 | N21: =+$D21 -> 0 | ... Q21: =+$D21 -> 0 | R21: =SUM(F21:Q21) -> 0 | T21: =R21 -> 0
A22: Salary Taxes | C22: =C21*'Benefits and Salary Taxes'!D10 -> 0 | D22: =C22/12 -> 0 | F22: =+D22 -> 0 | G22: =+$D22 -> 0 | H22: =+$D22 -> 0 | I22: =+$D22 -> 0 | J22: =+$D22 -> 0 | K22: =+$D22 -> 0 | L22: =+$D22 -> 0 | M22: =+$D22 -> 0 | N22: =+$D22 -> 0 | ... P22: =+$D22 -> 0 | Q22: =+D22 -> 0 | R22: =SUM(F22:Q22) -> 0 | T22: =R22 -> 0
A23: Fringe Benefits (Health, 403(b), 401k) | C23: 0 | D23: =C23/12 -> 0 | F23: =+D23 -> 0 | G23: =+$D23 -> 0 | H23: =+$D23 -> 0 | I23: =+$D23 -> 0 | J23: =+$D23 -> 0 | K23: =+$D23 -> 0 | L23: =+$D23 -> 0 | M23: =+$D23 -> 0 | N23: =+$D23 -> 0 | ... P23: =+$D23 -> 0 | Q23: =+D23 -> 0 | R23: =SUM(F23:Q23) -> 0 | T23: =R23 -> 0
A24: Other Staff | C24: 0 | D24: =C24/12 -> 0 | F24: =+D24 -> 0 | G24: =+$D24 -> 0 | H24: =+$D24 -> 0 | I24: =+$D24 -> 0 | J24: =+$D24 -> 0 | K24: =+$D24 -> 0 | L24: =+$D24 -> 0 | M24: =+$D24 -> 0 | N24: =+$D24 -> 0 | ... Q24: =+$D24 -> 0 | R24: =SUM(F24:Q24) -> 0 | T24: =R24 -> 0
A25: Salary Taxes | C25: =C24*'Benefits and Salary Taxes'!D10 -> 0 | D25: =C25/12 -> 0 | F25: =+D25 -> 0 | G25: =+$D25 -> 0 | H25: =+$D25 -> 0 | I25: =+$D25 -> 0 | J25: =+$D25 -> 0 | K25: =+$D25 -> 0 | L25: =+$D25 -> 0 | M25: =+$D25 -> 0 | N25: =+$D25 -> 0 | ... P25: =+$D25 -> 0 | Q25: =+D25 -> 0 | R25: =SUM(F25:Q25) -> 0 | T25: =R25 -> 0
A26: Fringe Benefits (Health, 403(b), 401k) | C26: 0 | D26: =C26/12 -> 0 | F26: =+D26 -> 0 | G26: =+$D26 -> 0 | H26: =+$D26 -> 0 | I26: =+$D26 -> 0 | J26: =+$D26 -> 0 | K26: =+$D26 -> 0 | L26: =+$D26 -> 0 | M26: =+$D26 -> 0 | N26: =+$D26 -> 0 | ... P26: =+$D26 -> 0 | Q26: =+D26 -> 0 | R26: =SUM(F26:Q26) -> 0 | T26: =R26 -> 0
A27: Facility
A28: Building Lease | C28: 0 | D28: =C28/12 -> 0 | F28: =+D28 -> 0 | G28: =+$D28 -> 0 | H28: =+$D28 -> 0 | I28: =+$D28 -> 0 | J28: =+$D28 -> 0 | K28: =+$D28 -> 0 | L28: =+$D28 -> 0 | M28: =+$D28 -> 0 | N28: =+$D28 -> 0 | ... P28: =+$D28 -> 0 | Q28: =$D28 -> 0 | R28: =SUM(F28:Q28) -> 0 | T28: =R28 -> 0 | V28: =+C28 -> 0
A29: Building Utilities | C29: 0 | D29: =C29/12 -> 0 | F29: =+D29 -> 0 | G29: =+$D29 -> 0 | H29: =+$D29 -> 0 | I29: =+$D29 -> 0 | J29: =+$D29 -> 0 | K29: =+$D29 -> 0 | L29: =+$D29 -> 0 | M29: =+$D29 -> 0 | N29: =+$D29 -> 0 | ... P29: =+$D29 -> 0 | Q29: =$D$29 -> 0 | R29: =SUM(F29:Q29) -> 0 | T29: =R29 -> 0 | V29: =+C29 -> 0
A30: Building Maintenance | C30: 0 | D30: =C30/12 -> 0 | F30: =+D30 -> 0 | G30: =+$D30 -> 0 | H30: =+$D30 -> 0 | I30: =+$D30 -> 0 | J30: =+$D30 -> 0 | K30: =+$D30 -> 0 | L30: =+$D30 -> 0 | M30: =+$D30 -> 0 | N30: =+$D30 -> 0 | ... P30: =+$D30 -> 0 | Q30: =$D$30 -> 0 | R30: =SUM(F30:Q30) -> 0 | T30: =R30 -> 0
A31: Building Other | C31: 0 | D31: =C31/12 -> 0 | F31: =+D31 -> 0 | G31: =+$D31 -> 0 | H31: =+$D31 -> 0 | I31: =+$D31 -> 0 | J31: =+$D31 -> 0 | K31: =+$D31 -> 0 | L31: =+$D31 -> 0 | M31: =+$D31 -> 0 | N31: =+$D31 -> 0 | ... Q31: =+$D31 -> 0 | R31: =SUM(F31:Q31) -> 0 | T31: =R31 -> 0
A32: Building Other | C32: 0 | D32: =C32/12 -> 0 | F32: =+D32 -> 0 | G32: =+$D32 -> 0 | H32: =+$D32 -> 0 | I32: =+$D32 -> 0 | J32: =+$D32 -> 0 | K32: =+$D32 -> 0 | L32: =+$D32 -> 0 | M32: =+$D32 -> 0 | N32: =+$D32 -> 0 | ... Q32: =+$D32 -> 0 | R32: =SUM(F32:Q32) -> 0 | T32: =R32 -> 0
A33: Building Other | C33: 0 | D33: =C33/12 -> 0 | F33: =+D33 -> 0 | G33: =+$D33 -> 0 | H33: =+$D33 -> 0 | I33: =+$D33 -> 0 | J33: =+$D33 -> 0 | K33: =+$D33 -> 0 | L33: =+$D33 -> 0 | M33: =+$D33 -> 0 | N33: =+$D33 -> 0 | ... Q33: =+$D33 -> 0 | R33: =SUM(F33:Q33) -> 0 | T33: =R33 -> 0
A34: Building Other | C34: 0 | D34: =C34/12 -> 0 | F34: =+D34 -> 0 | G34: =+$D34 -> 0 | H34: =+$D34 -> 0 | I34: =+$D34 -> 0 | J34: =+$D34 -> 0 | K34: =+$D34 -> 0 | L34: =+$D34 -> 0 | M34: =+$D34 -> 0 | N34: =+$D34 -> 0 | ... Q34: =+$D34 -> 0 | R34: =SUM(F34:Q34) -> 0 | T34: =R34 -> 0
A35: Insurance
A36: Insurance D&O | C36: 0 | D36: =C36/12 -> 0 | F36: =+D36 -> 0 | G36: =+D36 -> 0 | H36: =+$D36 -> 0 | I36: =+$D36 -> 0 | J36: =+$D36 -> 0 | K36: =+$D36 -> 0 | L36: =+$D36 -> 0 | M36: =+$D36 -> 0 | N36: =+$D36 -> 0 | O36: =+$D36 -> 0 | P36: =+$D36 -> 0 | Q36: =$D36 -> 0 | R36: =SUM(F36:Q36) -> 0 | T36: =R36 -> 0 | V36: =+C36 -> 0
A37: Cyber Insurance | C37: 0 | D37: =C37/12 -> 0 | F37: =+D37 -> 0 | G37: =+D37 -> 0 | H37: =+$D37 -> 0 | I37: =+$D37 -> 0 | J37: =+$D37 -> 0 | K37: =+$D37 -> 0 | L37: =+$D37 -> 0 | M37: =+$D37 -> 0 | N37: =+$D37 -> 0 | O37: =+$D37 -> 0 | P37: =+$D37 -> 0 | Q37: =$D37 -> 0 | R37: =SUM(F37:Q37) -> 0 | T37: =R37 -> 0 | V37: =+C37 -> 0
A38: Commercial Auto | C38: 0 | D38: =C38/12 -> 0 | F38: =+D38 -> 0 | G38: =+D38 -> 0 | H38: =+$D38 -> 0 | I38: =+$D38 -> 0 | J38: =+$D38 -> 0 | K38: =+$D38 -> 0 | L38: =+$D38 -> 0 | M38: =+$D38 -> 0 | N38: =+$D38 -> 0 | O38: =+$D38 -> 0 | P38: =+$D38 -> 0 | Q38: =$D38 -> 0 | R38: =SUM(F38:Q38) -> 0 | T38: =R38 -> 0 | V38: =+C38 -> 0
A39: General Liability | C39: 0 | D39: =C39/12 -> 0 | F39: =+D39 -> 0 | G39: =+D39 -> 0 | H39: =+$D39 -> 0 | I39: =+$D39 -> 0 | J39: =+$D39 -> 0 | K39: =+$D39 -> 0 | L39: =+$D39 -> 0 | M39: =+$D39 -> 0 | N39: =+$D39 -> 0 | O39: =+$D39 -> 0 | P39: =+$D39 -> 0 | Q39: =$D39 -> 0 | R39: =SUM(F39:Q39) -> 0 | T39: =R39 -> 0 | V39: =+C39 -> 0
A40: Umbrella/Excess | C40: 0 | D40: =C40/12 -> 0 | F40: =+D40 -> 0 | G40: =+D40 -> 0 | H40: =+$D40 -> 0 | I40: =+$D40 -> 0 | J40: =+$D40 -> 0 | K40: =+$D40 -> 0 | L40: =+$D40 -> 0 | M40: =+$D40 -> 0 | N40: =+$D40 -> 0 | O40: =+$D40 -> 0 | P40: =+$D40 -> 0 | Q40: =$D40 -> 0 | R40: =SUM(F40:Q40) -> 0 | T40: =R40 -> 0 | V40: =+C40 -> 0
A41: Crime Bond ($100,000 Limit) | C41: 0 | D41: =C41/12 -> 0 | F41: =+D41 -> 0 | G41: =+D41 -> 0 | H41: =+$D41 -> 0 | I41: =+$D41 -> 0 | J41: =+$D41 -> 0 | K41: =+$D41 -> 0 | L41: =+$D41 -> 0 | M41: =+$D41 -> 0 | N41: =+$D41 -> 0 | O41: =+$D41 -> 0 | P41: =+$D41 -> 0 | Q41: =$D41 -> 0 | R41: =SUM(F41:Q41) -> 0 | T41: =R41 -> 0 | V41: =+C41 -> 0
...

Sheet 2030 - 5311
A1: Master Budget ~ FY2030 | C1: FY 2030 | F1: July | G1: Aug. | H1: Sept. | I1: Oct. | J1: Nov. | K1: Dec. | L1: Jan. | M1: Feb. | N1: Mar. | O1: Apr. | P1: May | Q1: June | R1: YTD | T1: 5311 Grant
C2: Budget
A3: Budget Item | C3: Annual | D3: Monthly | F3: Expenses | G3: Expenses | H3: Expenses | I3: Expenses | J3: Expenses | K3: Expenses | L3: Expenses | M3: Expenses | N3: Expenses | O3: Expenses | P3: Expenses | Q3: Expenses | R3: Total | T3: FY 2030
A4: NON-OPERATING SERVICES (80% Federal Funded: 10% State Funded)
B5: Quantity
A6: Transit Manager | C6: 0 | D6: =C6/12 -> 0 | F6: =$D$6 -> 0 | G6: =$D$6 -> 0 | H6: =$D$6 -> 0 | I6: =$D$6 -> 0 | J6: =$D$6 -> 0 | K6: =$D$6 -> 0 | L6: =$D$6 -> 0 | M6: =$D$6 -> 0 | ... Q6: =$D$6 -> 0 | R6: =SUM(F6:Q6) -> 0 | T6: =R6 -> 0
A7: Salary Taxes | C7: =C6*'Benefits and Salary Taxes'!D7 -> 0 | D7: =C7/12 -> 0 | F7: =+D7 -> 0 | G7: =+$D7 -> 0 | H7: =+$D7 -> 0 | I7: =+$D7 -> 0 | J7: =+$D7 -> 0 | K7: =+$D7 -> 0 | L7: =+$D7 -> 0 | M7: =+$D7 -> 0 | N7: =+$D7 -> 0 | ... P7: =+$D7 -> 0 | Q7: =+D7 -> 0 | R7: =SUM(F7:Q7) -> 0 | T7: =R7 -> 0
A8: Fringe Benefits (Health, 403(b), 401k) | C8: =+'Benefits and Salary Taxes'!E16*12 -> 0 | D8: =C8/12 -> 0 | F8: =$D$8 -> 0 | G8: =$D$8 -> 0 | H8: =$D$8 -> 0 | I8: =$D$8 -> 0 | J8: =$D$8 -> 0 | K8: =$D$8 -> 0 | L8: =$D$8 -> 0 | M8: =$D$8 -> 0 | ... Q8: =$D$8 -> 0 | R8: =SUM(F8:Q8) -> 0 | T8: =R8 -> 0
A9: Operations Manager | C9: 0 | D9: =C9/12 -> 0 | F9: =+$D$9 -> 0 | G9: =+$D$9 -> 0 | H9: =+$D$9 -> 0 | I9: =+$D$9 -> 0 | J9: =+$D$9 -> 0 | K9: =+$D$9 -> 0 | L9: =+$D$9 -> 0 | M9: =+$D$9 -> 0 | ... P9: =+$D$9 -> 0 | Q9: =$D$9 -> 0 | R9: =SUM(F9:Q9) -> 0 | T9: =R9 -> 0 | V9: =+C9 -> 0
A10: Salary Taxes | C10: =+C9*'Benefits and Salary Taxes'!D7 -> 0 | D10: =C10/12 -> 0 | F10: =+$D$10 -> 0 | G10: =+$D$10 -> 0 | H10: =+$D$10 -> 0 | I10: =+$D$10 -> 0 | J10: =+$D$10 -> 0 | K10: =+$D$10 -> 0 | L10: =+$D$10 -> 0 | M10: =+$D$10 -> 0 | ... P10: =+$D$10 -> 0 | Q10: =$D$10 -> 0 | R10: =SUM(F10:Q10) -> 0 | T10: =R10 -> 0 | V10: =+C10 -> 0
A11: Fringe Benefits (Health, 403(b), 401k) | C11: 0 | D11: =C11/12 -> 0 | F11: =+D11 -> 0 | G11: =+$D11 -> 0 | H11: =+$D11 -> 0 | I11: =+$D11 -> 0 | J11: =+$D11 -> 0 | K11: =+$D11 -> 0 | L11: =+$D11 -> 0 | M11: =+$D11 -> 0 | N11: =+$D11 -> 0 | ... P11: =+$D11 -> 0 | Q11: =$D$11 -> 0 | R11: =SUM(F11:Q11) -> 0 | T11: =R11 -> 0 | V11: =+C11 -> 0
A12: Transit Director | D12: =C12/12 -> 0 | Q12: =+D12 -> 0 | R12: =SUM(F12:Q12) -> 0 | T12: =+R12 -> 0
A13: Salary Taxes | D13: =C13/12 -> 0 | Q13: =+D13 -> 0 | R13: =SUM(F13:Q13) -> 0 | T13: =+R13 -> 0
A15: Administrative | C15: 0 | D15: =C15/12 -> 0 | F15: =+D15 -> 0 | G15: =+$D15 -> 0 | H15: =+$D15 -> 0 | I15: =+$D15 -> 0 | J15: =+$D15 -> 0 | K15: =+$D15 -> 0 | L15: =+$D15 -> 0 | M15: =+$D15 -> 0 | N15: =+$D15 -> 0 | ... P15: =+$D15 -> 0 | Q15: =$D$15 -> 0 | R15: =SUM(F15:Q15) -> 0 | T15: =R15 -> 0 | V15: =+C15 -> 0
A16: Salary Taxes | C16: =+C15*'Benefits and Salary Taxes'!D7 -> 0 | D16: =C16/12 -> 0 | F16: =+D16 -> 0 | G16: =+$D16 -> 0 | H16: =+$D16 -> 0 | I16: =+$D16 -> 0 | J16: =+$D16 -> 0 | K16: =+$D16 -> 0 | L16: =+$D16 -> 0 | M16: =+$D16 -> 0 | N16: =+$D16 -> 0 | ... P16: =+$D16 -> 0 | Q16: =+D16 -> 0 | R16: =SUM(F16:Q16) -> 0 | T16: =R16 -> 0 | V16: =+C16 -> 0
A17: Fringe Benefits (Health, 403(b), 401k) | C17: 0 | D17: =C17/12 -> 0 | F17: =+D17 -> 0 | G17: =+$D17 -> 0 | H17: =+$D17 -> 0 | I17: =+$D17 -> 0 | J17: =+$D17 -> 0 | K17: =+$D17 -> 0 | L17: =+$D17 -> 0 | M17: =+$D17 -> 0 | N17: =+$D17 -> 0 | ... P17: =+$D17 -> 0 | Q17: =$D$17 -> 0 | R17: =SUM(F17:Q17) -> 0 | T17: =R17 -> 0 | V17: =+C17 -> 0
A18: Marketing/Planning Staff | C18: 0 | D18: =C18/12 -> 0 | F18: =+D18 -> 0 | G18: =+$D18 -> 0 | H18: =+$D18 -> 0 | I18: =+$D18 -> 0 | J18: =+$D18 -> 0 | K18: =+$D18 -> 0 | L18: =+$D18 -> 0 | M18: =+$D18 -> 0 | N18: =+$D18 -> 0 | ... Q18: =+$D18 -> 0 | R18: =SUM(F18:Q18) -> 0 | T18: =R18 -> 0
A19: Salary Taxes | C19: =C18*'Benefits and Salary Taxes'!D7 -> 0 | D19: =C19/12 -> 0 | F19: =+D19 -> 0 | G19: =+$D19 -> 0 | H19: =+$D19 -> 0 | I19: =+$D19 -> 0 | J19: =+$D19 -> 0 | K19: =+$D19 -> 0 | L19: =+$D19 -> 0 | M19: =+$D19 -> 0 | N19: =+$D19 -> 0 | ... P19: =+$D19 -> 0 | Q19: =+D19 -> 0 | R19: =SUM(F19:Q19) -> 0 | T19: =R19 -> 0
A20: Fringe Benefits (Health, 403(b), 401k) | C20: 0 | D20: =C20/12 -> 0 | F20: =+D20 -> 0 | G20: =+$D20 -> 0 | H20: =+$D20 -> 0 | I20: =+$D20 -> 0 | J20: =+$D20 -> 0 | K20: =+$D20 -> 0 | L20: =+$D20 -> 0 | M20: =+$D20 -> 0 | N20: =+$D20 -> 0 | ... P20: =+$D20 -> 0 | Q20: =$D$17 -> 0 | R20: =SUM(F20:Q20) -> 0 | T20: =R20 -> 0
A21: Accounting Staff | C21: 0 | D21: =C21/12 -> 0 | F21: =+D21 -> 0 | G21: =+$D21 -> 0 | H21: =+$D21 -> 0 | I21: =+$D21 -> 0 | J21: =+$D21 -> 0 | K21: =+$D21 -> 0 | L21: =+$D21 -> 0 | M21: =+$D21 -> 0 | N21: =+$D21 -> 0 | ... Q21: =+$D21 -> 0 | R21: =SUM(F21:Q21) -> 0 | T21: =R21 -> 0
A22: Salary Taxes | C22: =C21*'Benefits and Salary Taxes'!D10 -> 0 | D22: =C22/12 -> 0 | F22: =+D22 -> 0 | G22: =+$D22 -> 0 | H22: =+$D22 -> 0 | I22: =+$D22 -> 0 | J22: =+$D22 -> 0 | K22: =+$D22 -> 0 | L22: =+$D22 -> 0 | M22: =+$D22 -> 0 | N22: =+$D22 -> 0 | ... P22: =+$D22 -> 0 | Q22: =+D22 -> 0 | R22: =SUM(F22:Q22) -> 0 | T22: =R22 -> 0
A23: Fringe Benefits (Health, 403(b), 401k) | C23: 0 | D23: =C23/12 -> 0 | F23: =+D23 -> 0 | G23: =+$D23 -> 0 | H23: =+$D23 -> 0 | I23: =+$D23 -> 0 | J23: =+$D23 -> 0 | K23: =+$D23 -> 0 | L23: =+$D23 -> 0 | M23: =+$D23 -> 0 | N23: =+$D23 -> 0 | ... P23: =+$D23 -> 0 | Q23: =+D23 -> 0 | R23: =SUM(F23:Q23) -> 0 | T23: =R23 -> 0
A24: Other Staff | C24: 0 | D24: =C24/12 -> 0 | F24: =+D24 -> 0 | G24: =+$D24 -> 0 | H24: =+$D24 -> 0 | I24: =+$D24 -> 0 | J24: =+$D24 -> 0 | K24: =+$D24 -> 0 | L24: =+$D24 -> 0 | M24: =+$D24 -> 0 | N24: =+$D24 -> 0 | ... Q24: =+$D24 -> 0 | R24: =SUM(F24:Q24) -> 0 | T24: =R24 -> 0
A25: Salary Taxes | C25: =C24*'Benefits and Salary Taxes'!D10 -> 0 | D25: =C25/12 -> 0 | F25: =+D25 -> 0 | G25: =+$D25 -> 0 | H25: =+$D25 -> 0 | I25: =+$D25 -> 0 | J25: =+$D25 -> 0 | K25: =+$D25 -> 0 | L25: =+$D25 -> 0 | M25: =+$D25 -> 0 | N25: =+$D25 -> 0 | ... P25: =+$D25 -> 0 | Q25: =+D25 -> 0 | R25: =SUM(F25:Q25) -> 0 | T25: =R25 -> 0
A26: Fringe Benefits (Health, 403(b), 401k) | C26: 0 | D26: =C26/12 -> 0 | F26: =+D26 -> 0 | G26: =+$D26 -> 0 | H26: =+$D26 -> 0 | I26: =+$D26 -> 0 | J26: =+$D26 -> 0 | K26: =+$D26 -> 0 | L26: =+$D26 -> 0 | M26: =+$D26 -> 0 | N26: =+$D26 -> 0 | ... P26: =+$D26 -> 0 | Q26: =+D26 -> 0 | R26: =SUM(F26:Q26) -> 0 | T26: =R26 -> 0
A27: Facility
A28: Building Lease | C28: 0 | D28: =C28/12 -> 0 | F28: =+D28 -> 0 | G28: =+$D28 -> 0 | H28: =+$D28 -> 0 | I28: =+$D28 -> 0 | J28: =+$D28 -> 0 | K28: =+$D28 -> 0 | L28: =+$D28 -> 0 | M28: =+$D28 -> 0 | N28: =+$D28 -> 0 | ... P28: =+$D28 -> 0 | Q28: =$D28 -> 0 | R28: =SUM(F28:Q28) -> 0 | T28: =R28 -> 0 | V28: =+C28 -> 0
A29: Building Utilities | C29: 0 | D29: =C29/12 -> 0 | F29: =+D29 -> 0 | G29: =+$D29 -> 0 | H29: =+$D29 -> 0 | I29: =+$D29 -> 0 | J29: =+$D29 -> 0 | K29: =+$D29 -> 0 | L29: =+$D29 -> 0 | M29: =+$D29 -> 0 | N29: =+$D29 -> 0 | ... P29: =+$D29 -> 0 | Q29: =$D$29 -> 0 | R29: =SUM(F29:Q29) -> 0 | T29: =R29 -> 0 | V29: =+C29 -> 0
A30: Building Maintenance | C30: 0 | D30: =C30/12 -> 0 | F30: =+D30 -> 0 | G30: =+$D30 -> 0 | H30: =+$D30 -> 0 | I30: =+$D30 -> 0 | J30: =+$D30 -> 0 | K30: =+$D30 -> 0 | L30: =+$D30 -> 0 | M30: =+$D30 -> 0 | N30: =+$D30 -> 0 | ... P30: =+$D30 -> 0 | Q30: =$D$30 -> 0 | R30: =SUM(F30:Q30) -> 0 | T30: =R30 -> 0
A31: Building Other | C31: 0 | D31: =C31/12 -> 0 | F31: =+D31 -> 0 | G31: =+$D31 -> 0 | H31: =+$D31 -> 0 | I31: =+$D31 -> 0 | J31: =+$D31 -> 0 | K31: =+$D31 -> 0 | L31: =+$D31 -> 0 | M31: =+$D31 -> 0 | N31: =+$D31 -> 0 | ... Q31: =+$D31 -> 0 | R31: =SUM(F31:Q31) -> 0 | T31: =R31 -> 0
A32: Building Other | C32: 0 | D32: =C32/12 -> 0 | F32: =+D32 -> 0 | G32: =+$D32 -> 0 | H32: =+$D32 -> 0 | I32: =+$D32 -> 0 | J32: =+$D32 -> 0 | K32: =+$D32 -> 0 | L32: =+$D32 -> 0 | M32: =+$D32 -> 0 | N32: =+$D32 -> 0 | ... Q32: =+$D32 -> 0 | R32: =SUM(F32:Q32) -> 0 | T32: =R32 -> 0
A33: Building Other | C33: 0 | D33: =C33/12 -> 0 | F33: =+D33 -> 0 | G33: =+$D33 -> 0 | H33: =+$D33 -> 0 | I33: =+$D33 -> 0 | J33: =+$D33 -> 0 | K33: =+$D33 -> 0 | L33: =+$D33 -> 0 | M33: =+$D33 -> 0 | N33: =+$D33 -> 0 | ... Q33: =+$D33 -> 0 | R33: =SUM(F33:Q33) -> 0 | T33: =R33 -> 0
A34: Building Other | C34: 0 | D34: =C34/12 -> 0 | F34: =+D34 -> 0 | G34: =+$D34 -> 0 | H34: =+$D34 -> 0 | I34: =+$D34 -> 0 | J34: =+$D34 -> 0 | K34: =+$D34 -> 0 | L34: =+$D34 -> 0 | M34: =+$D34 -> 0 | N34: =+$D34 -> 0 | ... Q34: =+$D34 -> 0 | R34: =SUM(F34:Q34) -> 0 | T34: =R34 -> 0
A35: Insurance
A36: Insurance D&O | C36: 0 | D36: =C36/12 -> 0 | F36: =+D36 -> 0 | G36: =+D36 -> 0 | H36: =+$D36 -> 0 | I36: =+$D36 -> 0 | J36: =+$D36 -> 0 | K36: =+$D36 -> 0 | L36: =+$D36 -> 0 | M36: =+$D36 -> 0 | N36: =+$D36 -> 0 | O36: =+$D36 -> 0 | P36: =+$D36 -> 0 | Q36: =$D36 -> 0 | R36: =SUM(F36:Q36) -> 0 | T36: =R36 -> 0 | V36: =+C36 -> 0
A37: Cyber Insurance | C37: 0 | D37: =C37/12 -> 0 | F37: =+D37 -> 0 | G37: =+D37 -> 0 | H37: =+$D37 -> 0 | I37: =+$D37 -> 0 | J37: =+$D37 -> 0 | K37: =+$D37 -> 0 | L37: =+$D37 -> 0 | M37: =+$D37 -> 0 | N37: =+$D37 -> 0 | O37: =+$D37 -> 0 | P37: =+$D37 -> 0 | Q37: =$D37 -> 0 | R37: =SUM(F37:Q37) -> 0 | T37: =R37 -> 0 | V37: =+C37 -> 0
A38: Commercial Auto | C38: 0 | D38: =C38/12 -> 0 | F38: =+D38 -> 0 | G38: =+D38 -> 0 | H38: =+$D38 -> 0 | I38: =+$D38 -> 0 | J38: =+$D38 -> 0 | K38: =+$D38 -> 0 | L38: =+$D38 -> 0 | M38: =+$D38 -> 0 | N38: =+$D38 -> 0 | O38: =+$D38 -> 0 | P38: =+$D38 -> 0 | Q38: =$D38 -> 0 | R38: =SUM(F38:Q38) -> 0 | T38: =R38 -> 0 | V38: =+C38 -> 0
A39: General Liability | C39: 0 | D39: =C39/12 -> 0 | F39: =+D39 -> 0 | G39: =+D39 -> 0 | H39: =+$D39 -> 0 | I39: =+$D39 -> 0 | J39: =+$D39 -> 0 | K39: =+$D39 -> 0 | L39: =+$D39 -> 0 | M39: =+$D39 -> 0 | N39: =+$D39 -> 0 | O39: =+$D39 -> 0 | P39: =+$D39 -> 0 | Q39: =$D39 -> 0 | R39: =SUM(F39:Q39) -> 0 | T39: =R39 -> 0 | V39: =+C39 -> 0
A40: Umbrella/Excess | C40: 0 | D40: =C40/12 -> 0 | F40: =+D40 -> 0 | G40: =+D40 -> 0 | H40: =+$D40 -> 0 | I40: =+$D40 -> 0 | J40: =+$D40 -> 0 | K40: =+$D40 -> 0 | L40: =+$D40 -> 0 | M40: =+$D40 -> 0 | N40: =+$D40 -> 0 | O40: =+$D40 -> 0 | P40: =+$D40 -> 0 | Q40: =$D40 -> 0 | R40: =SUM(F40:Q40) -> 0 | T40: =R40 -> 0 | V40: =+C40 -> 0
A41: Crime Bond ($100,000 Limit) | C41: 0 | D41: =C41/12 -> 0 | F41: =+D41 -> 0 | G41: =+D41 -> 0 | H41: =+$D41 -> 0 | I41: =+$D41 -> 0 | J41: =+$D41 -> 0 | K41: =+$D41 -> 0 | L41: =+$D41 -> 0 | M41: =+$D41 -> 0 | N41: =+$D41 -> 0 | O41: =+$D41 -> 0 | P41: =+$D41 -> 0 | Q41: =$D41 -> 0 | R41: =SUM(F41:Q41) -> 0 | T41: =R41 -> 0 | V41: =+C41 -> 0
...

Sheet Benefits and Salary Taxes
A1: Wage Tax Calulations | N1: 2026 | P1: 2027 | R1: 2028 | T1: 2029 | V1: 2030
C2: As a Percent of Total Wage | L2: Salary | M2: Name | N2: Annual | O2: wage/hr | P2: Annual | Q2: wage/hr | R2: Annual | S2: wage/hr | T2: Annual | U2: wage/hr | V2: Annual | W2: wage/hr
C3: Employee Pays | D3: Employer Pays | K3: 1 | L3: Transit Mgr Wage | P3: {=P3:Q37} -> 0 | R3: {=R3:S37} -> 0 | T3: {=T3:U37} -> 0 | V3: {=V3:W37} -> 0
A4: Social Security | C4: 0.062 | D4: 0.062 | F4: For Budgeting Purposes calculate tax on Gross Income. | K4: 2 | L4: Supervisor Wage
A5: Unemployment | C5: 0 | D5: 0.03 | K5: 3 | L5: Dispatch wage | N5: =+O5*2080 -> 0
A6: Medicare | C6: 0.0145 | D6: 0.0145 | F6: For Budgeting Purposes calculate tax on Gross Income. | K6: 4 | L6: Utility Worker | N6: =+O6*2080 -> 0
A7: Total | C7: =SUM(C4:C6) -> 0.0765 | D7: =SUM(D4:D6) -> 0.1065 | K7: 5 | L7: Driver Wage | N7: =+O7*2080 -> 0
K8: 6 | L8: Janitor | N8: =+O8*2080 -> 0
K9: 7 | L9: employee | N9: =+O9*2080 -> 0
A10: Workmans Compensation Plan | F10: Vehicle Replacement | K10: 8 | L10: employee | N10: =+O10*2080 -> 0
A11: Workmans Comp | D11: 0.065 | F11: Cutaway Buses | H11: 100000 | I11: 110000 | K11: 9 | L11: employee | N11: =+O11*2080 -> 0
F12: Vans | H12: 40000 | I12: 44000 | K12: 10 | L12: employee | N12: =+O12*2080 -> 0
K13: 11 | L13: employee | N13: =+O13*2080 -> 0
K14: 12 | L14: employee | N14: =+O14*2080 -> 0
A15: Fringe Benefits | K15: 13 | L15: employee | N15: =+O15*2080 -> 0
A16: Health Care (Tiered Cash Benefit Plan) | E16: 0 | F16: per month | K16: 14 | L16: employee | N16: =+O16*2080 -> 0
A17: Retirement Plan (Maximum Agency Match) | E17: 0 | K17: 15 | L17: employee | N17: =+O17*2080 -> 0
A18: Other | K18: 16 | L18: employee | N18: =+O18*2080 -> 0
K19: 17 | L19: employee | N19: =+O19*2080 -> 0
K20: 18 | L20: employee | N20: =+O20*2080 -> 0
K21: 19 | L21: employee | N21: =+O21*2080 -> 0
A22: INSTRUCTIONS | K22: 20 | L22: employee | N22: =+O22*2080 -> 0
B23: This tab feeds into the formulas on the 2026 and 2027 budget tabs. | K23: 21 | L23: employee | N23: =+O23*2080 -> 0
B24: The above cells with peach coloring need to updated with your local agency costs. | K24: 22 | L24: employee | N24: =+O24*2080 -> 0
C25: You may need your Human Resources staff to give you this information if you do not do payroll. | K25: 23 | L25: employee | N25: =+O25*2080 -> 0
K26: 24 | L26: employee | N26: =+O26*2080 -> 0
C27: Examples are in the boxes now. | K27: 25 | L27: employee | N27: =+O27*2080 -> 0
K28: 26 | L28: employee | N28: =+O28*2080 -> 0
K29: 27 | L29: employee | N29: =+O29*2080 -> 0
K30: 28 | L30: employee | N30: =+O30*2080 -> 0
K31: 29 | L31: employee | N31: =+O31*2080 -> 0
K32: 30 | L32: employee | N32: =+O32*2080 -> 0
K33: 31 | L33: employee | N33: =+O33*2080 -> 0
K34: 32 | L34: employee | N34: =+O34*2080 -> 0
K35: 33 | L35: employee | N35: =+O35*2080 -> 0
K36: 34 | L36: employee | N36: =+O36*2080 -> 0
K37: 35 | L37: employee | N37: =+O37*2080 -> 0
I38: add names as needed

Sheet fleet list
B1: VIN (last 4) | C1: Vehicle # | D1: Year | E1: Make | F1: Model | G1: Mileage | H1: Mileage Date | I1: Pass Seats | J1: wheelchair ties | K1: Condition | L1: Purchase Cost | M1: Replacement Year | N1: Replacement Cost
A2: 1
A3: 2
A4: 3
A5: 4
A6: 5
A7: 6
A8: 7
A9: 8
A10: 9
A11: 10
A12: 11
A13: 12
... A60: 59
